BEGIN:VCALENDAR
VERSION:2.0
PRODID:-//ChamberMaster//Event Calendar 2.0//EN
METHOD:PUBLISH
X-PUBLISHED-TTL:P3D
REFRESH-INTERVAL:P3D
CALSCALE:GREGORIAN
BEGIN:VEVENT
DTSTART:20170601T194500Z
DTEND:20170601T220000Z
X-MICROSOFT-CDO-ALLDAYEVENT:FALSE
SUMMARY:InnovateHER West Michigan
DESCRIPTION:InnovateHER is a cross-cutting prize competition to unearth innovative products and services that help impact and empower the lives of women and families. Support our local entrepreneurs by attending the InnovateHER pitch competition to hear about some great products and services that: Have a measurable impact on the lives of women and families. Have the potential for commercialization. Fill a need in the marketplace. The local winner will receive a business resource package and will be submitted to the Nation Semi-Final Rounds of InnovateHER.
X-ALT-DESC;FMTTYPE=text/html:InnovateHER is a cross-cutting prize competition to unearth innovative products and services that help impact and empower the lives of women and families. Support our local entrepreneurs by attending the InnovateHER pitch competition to hear about some great products and services that: Have a measurable impact on the lives of women and families. Have the potential for commercialization. Fill a need in the marketplace. The local winner will receive a business resource package and will be submitted to the Nation Semi-Final Rounds of InnovateHER.
LOCATION:
UID:e.2018.595
SEQUENCE:3
DTSTAMP:20260423T105031Z
URL:https://members.westmihcc.org/events/details/innovateher-west-michigan-595
END:VEVENT

END:VCALENDAR
