BEGIN:VCALENDAR
VERSION:2.0
PRODID:-//ChamberMaster//Event Calendar 2.0//EN
METHOD:PUBLISH
X-PUBLISHED-TTL:P3D
REFRESH-INTERVAL:P3D
CALSCALE:GREGORIAN
BEGIN:VEVENT
DTSTART:20181114T171500Z
DTEND:20181114T180000Z
X-MICROSOFT-CDO-ALLDAYEVENT:FALSE
SUMMARY:Inside the World of Franchising: Business-to-Business (B2B) Franchises
DESCRIPTION:Business-to-Business Franchises - Build a successful business by helping other businesses succeed! While many retail businesses serve individual customers\, business-to-business (B2B) franchises focus on selling products or services to companies or business owners. Business-to-business companies might be home-based or require a large warehouse. You might be surprised by the variety of options available...everything from professional services\, like sales consulting or maintenance services\, such as office cleaning\, to products that are customized for each business\, like signs. No cost. To register\, please go to https://cc.readytalk.com/registration/#/?meeting=1tlcwo0eqevk&campaign=2gh795g5rbjx. Registration deadline is Tuesday\, November 13\, 2018 at 5:15 pm.
X-ALT-DESC;FMTTYPE=text/html:Business-to-Business Franchises - Build a successful business by helping other businesses succeed! While many retail businesses serve individual customers\, business-to-business (B2B) franchises focus on selling products or services to companies or business owners. Business-to-business companies might be home-based or require a large warehouse. You might be surprised by the variety of options available...everything from professional services\, like sales consulting or maintenance services\, such as office cleaning\, to products that are customized for each business\, like signs. No cost. To register\, please go to https://cc.readytalk.com/registration/#/?meeting=1tlcwo0eqevk&amp\;campaign=2gh795g5rbjx. Registration deadline is Tuesday\, November 13\, 2018 at 5:15 pm.
LOCATION:Webinar
UID:e.2018.934
SEQUENCE:3
DTSTAMP:20260422T111401Z
URL:https://members.westmihcc.org/events/details/inside-the-world-of-franchising-business-to-business-b2b-franchises-934
END:VEVENT

END:VCALENDAR
