BEGIN:VCALENDAR
VERSION:2.0
PRODID:-//ChamberMaster//Event Calendar 2.0//EN
METHOD:PUBLISH
X-PUBLISHED-TTL:P3D
REFRESH-INTERVAL:P3D
CALSCALE:GREGORIAN
BEGIN:VEVENT
DTSTART:20180905T161500Z
DTEND:20180905T170000Z
X-MICROSOFT-CDO-ALLDAYEVENT:FALSE
SUMMARY:Inside the World of Franchising: Buying a Franchise
DESCRIPTION:Brigitte Betser\, franchise placement specialists with FranNet\, will bust some common franchise myths\, and enlighten you on the wide-range of categories and investment levels available in franchising today. She'll also discuss the various entry strategies available in the world of franchising\, ranging from single unit owner/operator to semi-absentee investor to regional developer. You'll learn whether franchising could be a path for achieving your goals\, and if so\, how to go about finding the RIGHT fit for you! No cost. To register\, please go to https://cc.readytalk.com/registration/#/?meeting=cz2r3wz7i9dv&campaign=ryjyyjnek9e1. Registration deadline is Tuesday\, September 4\, 2018 at 5:15 pm.
X-ALT-DESC;FMTTYPE=text/html:Brigitte Betser\, franchise placement specialists with FranNet\, will bust some common franchise myths\, and enlighten you on the wide-range of categories and investment levels available in franchising today. She&rsquo\;ll also discuss the various entry strategies available in the world of franchising\, ranging from single unit owner/operator to semi-absentee investor to regional developer. You&rsquo\;ll learn whether franchising could be a path for achieving your goals\, and if so\, how to go about finding the RIGHT fit for you! No cost. To register\, please go to https://cc.readytalk.com/registration/#/?meeting=cz2r3wz7i9dv&amp\;campaign=ryjyyjnek9e1. Registration deadline is Tuesday\, September 4\, 2018 at 5:15 pm.
LOCATION:Online
UID:e.2018.927
SEQUENCE:3
DTSTAMP:20260422T134321Z
URL:https://members.westmihcc.org/events/details/inside-the-world-of-franchising-buying-a-franchise-927
END:VEVENT

END:VCALENDAR
