BEGIN:VCALENDAR
VERSION:2.0
PRODID:-//ChamberMaster//Event Calendar 2.0//EN
METHOD:PUBLISH
X-PUBLISHED-TTL:P3D
REFRESH-INTERVAL:P3D
CALSCALE:GREGORIAN
BEGIN:VEVENT
DTSTART:20180919T161500Z
DTEND:20180919T170000Z
X-MICROSOFT-CDO-ALLDAYEVENT:FALSE
SUMMARY:Inside the World of Franchising: Funding Your Franchise
DESCRIPTION:So\, you have decided to buy or start up a business. GREAT!! In the 2nd of this 6 part series\, you will learn: - how to pay for your franchise\, - what funding options are available to you\, and - how to go about getting prequalified. No cost. To register\, please go to https://cc.readytalk.com/registration/#/?meeting=hwbq6z05l827&campaign=wx2r9spyzfgd. Registration deadline is Tuesday\, September 18\, 2018 at 5:15 pm.
X-ALT-DESC;FMTTYPE=text/html:So\, you have decided to buy or start up a business. GREAT!! In the 2nd of this 6 part series\, you will learn: - how to pay for your franchise\, - what funding options are available to you\, and - how to go about getting prequalified. No cost. To register\, please go to https://cc.readytalk.com/registration/#/?meeting=hwbq6z05l827&amp\;campaign=wx2r9spyzfgd. Registration deadline is Tuesday\, September 18\, 2018 at 5:15 pm.
LOCATION:Webianr
UID:e.2018.930
SEQUENCE:3
DTSTAMP:20260422T134319Z
URL:https://members.westmihcc.org/events/details/inside-the-world-of-franchising-funding-your-franchise-930
END:VEVENT

END:VCALENDAR
