BEGIN:VCALENDAR
VERSION:2.0
PRODID:-//ChamberMaster//Event Calendar 2.0//EN
METHOD:PUBLISH
X-PUBLISHED-TTL:P3D
REFRESH-INTERVAL:P3D
CALSCALE:GREGORIAN
BEGIN:VEVENT
DTSTART:20181031T161500Z
DTEND:20181031T170000Z
X-MICROSOFT-CDO-ALLDAYEVENT:FALSE
SUMMARY:Inside the World of Franchising: Home-Based Business Opportunities
DESCRIPTION:Did you know 2 out of 3 companies start in someone's house? Running a company from your home can provide the comfort\, convenience\, and low overhead that make starting a business less daunting. Many local businesses near you that offer lawn care\, home restoration\, or residential services are actually being run from a home office. During this webinar\, we'll highlight: - specific franchise opportunities available for home-based businesses in Michigan - what franchisors are looking for in their ideal owner for these concepts - what your next steps should be No cost. To register\, please go to https://cc.readytalk.com/registration/#/?meeting=96ve7wp8gsev&campaign=x3kv4wsdbsft. Registration deadline is Tuesday\, October 30\, 2018 at 5:15 pm.
X-ALT-DESC;FMTTYPE=text/html:Did you know 2 out of 3 companies start in someone&rsquo\;s house? Running a company from your home can provide the comfort\, convenience\, and low overhead that make starting a business less daunting. Many local businesses near you that offer lawn care\, home restoration\, or residential services are actually being run from a home office. During this webinar\, we&rsquo\;ll highlight: - specific franchise opportunities available for home-based businesses in Michigan - what franchisors are looking for in their ideal owner for these concepts - what your next steps should be No cost. To register\, please go to https://cc.readytalk.com/registration/#/?meeting=96ve7wp8gsev&amp\;campaign=x3kv4wsdbsft. Registration deadline is Tuesday\, October 30\, 2018 at 5:15 pm.
LOCATION:Webinar
UID:e.2018.933
SEQUENCE:3
DTSTAMP:20260422T122813Z
URL:https://members.westmihcc.org/events/details/inside-the-world-of-franchising-home-based-business-opportunities-933
END:VEVENT

END:VCALENDAR
