BEGIN:VCALENDAR
VERSION:2.0
PRODID:-//ChamberMaster//Event Calendar 2.0//EN
METHOD:PUBLISH
X-PUBLISHED-TTL:P3D
REFRESH-INTERVAL:P3D
CALSCALE:GREGORIAN
BEGIN:VEVENT
DTSTART:20181017T161500Z
DTEND:20181017T170000Z
X-MICROSOFT-CDO-ALLDAYEVENT:FALSE
SUMMARY:Inside the World of Franchising: Retail Franchises\, the Brick and Mortar Businesses
DESCRIPTION:When you think of owning a small business\, do you imagine a brick and mortar space with a storefront? Would you like to own a retail business but are unsure where to start? Retail franchises are available in everything from quick serve restaurants\, to boutique clothing stores\, to appliance and furniture rental stores. There are literally thousands of opportunities. Join us for a free as we highlight various retail franchise concepts expanding in Michigan and in search of the right franchise owner. Retailers with the training\, name recognition\, and support of an experienced corporate office have a distinct advantage over traditional start-ups. No cost. To register\, please go to https://cc.readytalk.com/registration/#/?meeting=22uy5rqvfun0&campaign=mw9ie8opeuvb. Registration deadline is Tuesday\, October 16\, 2018 at 5:15 pm.
X-ALT-DESC;FMTTYPE=text/html:When you think of owning a small business\, do you imagine a brick and mortar space with a storefront? Would you like to own a retail business but are unsure where to start? Retail franchises are available in everything from quick serve restaurants\, to boutique clothing stores\, to appliance and furniture rental stores. There are literally thousands of opportunities. Join us for a free as we highlight various retail franchise concepts expanding in Michigan and in search of the right franchise owner. Retailers with the training\, name recognition\, and support of an experienced corporate office have a distinct advantage over traditional start-ups. No cost. To register\, please go to https://cc.readytalk.com/registration/#/?meeting=22uy5rqvfun0&amp\;campaign=mw9ie8opeuvb. Registration deadline is Tuesday\, October 16\, 2018 at 5:15 pm.
LOCATION:Webinar
UID:e.2018.932
SEQUENCE:3
DTSTAMP:20260422T122926Z
URL:https://members.westmihcc.org/events/details/inside-the-world-of-franchising-retail-franchises-the-brick-and-mortar-businesses-932
END:VEVENT

END:VCALENDAR
