BEGIN:VCALENDAR
VERSION:2.0
PRODID:-//ChamberMaster//Event Calendar 2.0//EN
METHOD:PUBLISH
X-PUBLISHED-TTL:P3D
REFRESH-INTERVAL:P3D
CALSCALE:GREGORIAN
BEGIN:VEVENT
DTSTART:20181003T161500Z
DTEND:20181003T170000Z
X-MICROSOFT-CDO-ALLDAYEVENT:FALSE
SUMMARY:Inside the World of Franchising: Start a Business - Keep Your Day Job!
DESCRIPTION:Are things going well in your corporate position but you see the writing on the wall? Do you want to start diversifying now? Join as we discuss semi-absentee business ownership (aka Start a business and keep your job). During this webinar\, we will cover what semi-absentee ownership is and we will host franchisors in the semi-absentee ownership space looking to expand in Michigan. No cost. To register\, please go to https://cc.readytalk.com/registration/#/?meeting=kf84utp4218f&campaign=xlg5u9f0o675. Registration deadline is Tuesday\, October 2\, 2018 at 5:15 pm.
X-ALT-DESC;FMTTYPE=text/html:Are things going well in your corporate position but you see the writing on the wall? Do you want to start diversifying now? Join as we discuss semi-absentee business ownership (aka Start a business and keep your job). During this webinar\, we will cover what semi-absentee ownership is and we will host franchisors in the semi-absentee ownership space looking to expand in Michigan. No cost. To register\, please go to https://cc.readytalk.com/registration/#/?meeting=kf84utp4218f&amp\;campaign=xlg5u9f0o675. Registration deadline is Tuesday\, October 2\, 2018 at 5:15 pm.
LOCATION:Webinar
UID:e.2018.931
SEQUENCE:3
DTSTAMP:20260422T123004Z
URL:https://members.westmihcc.org/events/details/inside-the-world-of-franchising-start-a-business-keep-your-day-job-931
END:VEVENT

END:VCALENDAR
