BEGIN:VCALENDAR
VERSION:2.0
PRODID:-//ChamberMaster//Event Calendar 2.0//EN
METHOD:PUBLISH
X-PUBLISHED-TTL:P3D
REFRESH-INTERVAL:P3D
CALSCALE:GREGORIAN
BEGIN:VEVENT
DTSTART:20180222T190000Z
DTEND:20180222T210000Z
X-MICROSOFT-CDO-ALLDAYEVENT:FALSE
SUMMARY:Insurance for Your Small Business
DESCRIPTION:This workshop will provide an overview of how small businesses can manage risk through insurance\, as well as highlight the circumstances when insurance may be required by law. After completing this workshop\, the participants will be able to: Identify the types of insurance required by a small business Identify various types of insurance a small business should consider Explain why insurance is important for a small business
X-ALT-DESC;FMTTYPE=text/html:This workshop will provide an overview of how small businesses can manage risk through insurance\, as well as highlight the circumstances when insurance may be required by law. After completing this workshop\, the participants will be able to: Identify the types of insurance required by a small business Identify various types of insurance a small business should consider Explain why insurance is important for a small business
LOCATION:
UID:e.2018.790
SEQUENCE:3
DTSTAMP:20260422T230807Z
URL:https://members.westmihcc.org/events/details/insurance-for-your-small-business-790
END:VEVENT

END:VCALENDAR
