BEGIN:VCALENDAR
VERSION:2.0
PRODID:-//ChamberMaster//Event Calendar 2.0//EN
METHOD:PUBLISH
X-PUBLISHED-TTL:P3D
REFRESH-INTERVAL:P3D
CALSCALE:GREGORIAN
BEGIN:VEVENT
DTSTART:20180215T170000Z
DTEND:20180215T180000Z
X-MICROSOFT-CDO-ALLDAYEVENT:FALSE
SUMMARY:Intro to GROW
DESCRIPTION:Intro to GROW is an orientation to the resources that GROW has available to entrepreneurs at every stage of their business. Participants will also take a business readiness self-assessment to help identify strenghts\, weaknesses\, opportunities and threats to your business or business idea. Note that Intro to GROW is a pre-requisite to all other GROW resources. As event seating is limited\, we regret that walk-ins cannot be accommodated. Please register to reserve your seat.
X-ALT-DESC;FMTTYPE=text/html:Intro to GROW is an orientation to the resources that GROW has available to entrepreneurs at every stage of their business. Participants will also take a business readiness self-assessment to help identify strenghts\, weaknesses\, opportunities and threats to your business or business idea. Note that Intro to GROW is a pre-requisite to all other GROW resources. As event seating is limited\, we regret that walk-ins cannot be accommodated. Please register to reserve your seat.
LOCATION:
UID:e.2018.788
SEQUENCE:3
DTSTAMP:20260422T230847Z
URL:https://members.westmihcc.org/events/details/intro-to-grow-02-15-2018-788
END:VEVENT

END:VCALENDAR
