BEGIN:VCALENDAR
VERSION:2.0
PRODID:-//ChamberMaster//Event Calendar 2.0//EN
METHOD:PUBLISH
X-PUBLISHED-TTL:P3D
REFRESH-INTERVAL:P3D
CALSCALE:GREGORIAN
BEGIN:VEVENT
DTSTART:20180419T160000Z
DTEND:20180419T170000Z
X-MICROSOFT-CDO-ALLDAYEVENT:FALSE
SUMMARY:Intro to GROW
DESCRIPTION:Intro to GROW is an orientation to the resources that GROW has available to entrepreneurs at every stage of their business. Participants will also take a business readiness self-assessment to help identify strenghts\, weaknesses\, opportunities and threats to your business or business idea. Note that Intro to GROW is a pre-requisite to all other GROW resources. As event seating is limited\, we regret that walk-ins cannot be accommodated. Please register to reserve your seat. Parking will be available in the YWCA lot behind the building. In addition\, street parking meters are free after 5pm and the Spectrum Health lot on LaGrave is open to the public after 5pm. When arriving at the YWCA for your scheduled class\, please use the building's intercom at the entrance to gain access to the building.
X-ALT-DESC;FMTTYPE=text/html:Intro to GROW is an orientation to the resources that GROW has available to entrepreneurs at every stage of their business. Participants will also take a business readiness self-assessment to help identify strenghts\, weaknesses\, opportunities and threats to your business or business idea. Note that Intro to GROW is a pre-requisite to all other GROW resources. As event seating is limited\, we regret that walk-ins cannot be accommodated. Please register to reserve your seat. Parking will be available in the YWCA lot behind the building. In addition\, street parking meters are free after 5pm and the Spectrum Health lot on LaGrave is open to the public after 5pm. When arriving at the YWCA for your scheduled class\, please use the building&#39\;s intercom at the entrance to gain access to the building.
LOCATION:
UID:e.2018.803
SEQUENCE:3
DTSTAMP:20260422T201601Z
URL:https://members.westmihcc.org/events/details/intro-to-grow-04-19-2018-803
END:VEVENT

END:VCALENDAR
