BEGIN:VCALENDAR
VERSION:2.0
PRODID:-//ChamberMaster//Event Calendar 2.0//EN
METHOD:PUBLISH
X-PUBLISHED-TTL:P3D
REFRESH-INTERVAL:P3D
CALSCALE:GREGORIAN
BEGIN:VEVENT
DTSTART:20160901T160000Z
DTEND:20160901T170000Z
X-MICROSOFT-CDO-ALLDAYEVENT:FALSE
SUMMARY:Intro to GROW
DESCRIPTION:Starting or growing your business? Intro to GROW is an orientation to the resources that GROW has available to entrepreneurs at every stage of their business. Participants will also take a business readiness self-assessment to help identify strenghts\, weaknesses\, opportunities and threats to your business or business idea. Note that Intro to GROW is a pre-requisite to all other GROW resources. As event seating is limited\, we regret that walk-ins cannot be accommodated. Please register to reserve your seat. Please note that the YWCA building is currently under construction\, and the rear parking lot is unavailable. Metered parking\, and City ramps are available during the day. The spectrum health lot on La Grave Ave is also available for use after 5:00pm.
X-ALT-DESC;FMTTYPE=text/html:Starting or growing your business? Intro to GROW is an orientation to the resources that GROW has available to entrepreneurs at every stage of their business. Participants will also take a business readiness self-assessment to help identify strenghts\, weaknesses\, opportunities and threats to your business or business idea. Note that Intro to GROW is a pre-requisite to all other GROW resources. As event seating is limited\, we regret that walk-ins cannot be accommodated. Please register to reserve your seat. Please note that the YWCA building is currently under construction\, and the rear parking lot is unavailable. Metered parking\, and City ramps are available during the day. The spectrum health lot on La Grave Ave is also available for use after 5:00pm.
LOCATION:Grand Rapids Opportunities for Women
UID:e.2018.464
SEQUENCE:3
DTSTAMP:20260425T225449Z
URL:https://members.westmihcc.org/events/details/intro-to-grow-464
END:VEVENT

END:VCALENDAR
