BEGIN:VCALENDAR
VERSION:2.0
PRODID:-//ChamberMaster//Event Calendar 2.0//EN
METHOD:PUBLISH
X-PUBLISHED-TTL:P3D
REFRESH-INTERVAL:P3D
CALSCALE:GREGORIAN
BEGIN:VEVENT
DTSTART:20190417T220000Z
DTEND:20190417T230000Z
X-MICROSOFT-CDO-ALLDAYEVENT:FALSE
SUMMARY:Intro to GROW in Spanish at WMHCC
DESCRIPTION:Introducci n a GROW es una orientaci n para los recursos que GROW tiene disponible a empresarios en cada etapa de su negocio. Participantes tambi n tomaran una autoevaluaci n de preparaci n para un negocio que les ayudara a identificar sus fortalezas\, debilidades\, oportunidades y riesgos para su negocio o idea de negocio.
X-ALT-DESC;FMTTYPE=text/html:Introducci&oacute\;n a GROW es una orientaci&oacute\;n para los recursos que GROW tiene disponible a empresarios en cada etapa de su negocio. Participantes tambi&eacute\;n tomaran una autoevaluaci&oacute\;n de preparaci&oacute\;n para un negocio que les ayudara a identificar sus fortalezas\, debilidades\, oportunidades y riesgos para su negocio o idea de negocio.
LOCATION:WMHCC
UID:e.2018.1174
SEQUENCE:3
DTSTAMP:20260420T050426Z
URL:https://members.westmihcc.org/events/details/intro-to-grow-in-spanish-at-wmhcc-1174
END:VEVENT

END:VCALENDAR
