BEGIN:VCALENDAR
VERSION:2.0
PRODID:-//ChamberMaster//Event Calendar 2.0//EN
METHOD:PUBLISH
X-PUBLISHED-TTL:P3D
REFRESH-INTERVAL:P3D
CALSCALE:GREGORIAN
BEGIN:VEVENT
DTSTART:20191010T160000Z
DTEND:20191010T170000Z
X-MICROSOFT-CDO-ALLDAYEVENT:FALSE
SUMMARY:Intro to GROW (Muskegon)
DESCRIPTION:Intro to GROW is an orientation to the resources that GROW has available to entrepreneurs at every stage of their business. Participants will also take a business readiness self-assessment to help identify strengths\, weaknesses\, opportunities and threats to your business or business idea.
X-ALT-DESC;FMTTYPE=text/html:Intro to GROW is an orientation to the resources that GROW has available to entrepreneurs at every stage of their business. Participants will also take a business readiness self-assessment to help identify strengths\, weaknesses\, opportunities and threats to your business or business idea.
LOCATION:Muskegon Innovation Hub
UID:e.2018.1348
SEQUENCE:3
DTSTAMP:20260419T201212Z
URL:https://members.westmihcc.org/events/details/intro-to-grow-muskegon-10-10-2019-1348
END:VEVENT

END:VCALENDAR
