BEGIN:VCALENDAR
VERSION:2.0
PRODID:-//ChamberMaster//Event Calendar 2.0//EN
METHOD:PUBLISH
X-PUBLISHED-TTL:P3D
REFRESH-INTERVAL:P3D
CALSCALE:GREGORIAN
BEGIN:VEVENT
DTSTART:20180512T130000Z
DTEND:20180512T190000Z
X-MICROSOFT-CDO-ALLDAYEVENT:FALSE
SUMMARY:Introduction to Homeownership en español
DESCRIPTION:Est  interesado en comprar una casa?  Le gustar a saber c mo su puntaci n de cr dito es determinada?  Quiere conocer m todos para obtener recursos de asistencia del pago de enganche?\n\nInscr base para clases de Introducci n de Compra de Vivienda.\n\n\n\nInterested in buying a house? Would you be interested in learning more about how your credit score is determined? Would you like to know more about down payment assistance? Enroll in the Spanish Introduction to Homeownership class.\n\n\n\nTo sign up for class\, please visit https://iccf.org/classes/introduction-to-homeownership/ \n\nIf you have any questions\, please call 616.336.9333
X-ALT-DESC;FMTTYPE=text/html:<span style="font-size:12px"><span style="font-family:arial\,helvetica\,sans-serif"><span style="color:rgb(29\, 33\, 41)">&iquest\;Est&aacute\; interesado en comprar una casa? &iquest\;Le gustar&iacute\;a saber c&oacute\;mo su puntaci&oacute\;n de cr&eacute\;dito es determinada? &iquest\;Quiere conocer m&eacute\;todos para obtener recursos de asistencia del pago de enganche?</span><br />\n<span style="color:rgb(29\, 33\, 41)">Inscr&iacute\;base para clases de Introducci&oacute\;n de Compra de Vivienda.</span><br />\n<br />\n<span style="color:rgb(29\, 33\, 41)">Interested in buying a house? Would you be interested in learning more about how your credit score is determined? Would you like to know more about down payment assistance? Enroll in the Spanish Introduction to Homeownership class.<br />\n<br />\nTo sign up for class\, please visit&nbsp\;</span>https://iccf.org/classes/introduction-to-homeownership/&nbsp\;<br />\nIf you have any questions\, please call 616.336.9333</span></span>
LOCATION:West Elementary School - 1840 38th St SW\, Wyoming\, Michigan 49519
UID:e.2018.833
SEQUENCE:3
DTSTAMP:20260422T200222Z
URL:https://members.westmihcc.org/events/details/introduction-to-homeownership-en-espa&#241;ol-833
END:VEVENT

END:VCALENDAR
