BEGIN:VCALENDAR
VERSION:2.0
PRODID:-//ChamberMaster//Event Calendar 2.0//EN
METHOD:PUBLISH
X-PUBLISHED-TTL:P3D
REFRESH-INTERVAL:P3D
CALSCALE:GREGORIAN
BEGIN:VEVENT
DTSTART:20190328T190000Z
DTEND:20190328T210000Z
X-MICROSOFT-CDO-ALLDAYEVENT:FALSE
SUMMARY:Introduction to Social Media
DESCRIPTION:This course is designed for entrepreneurs and business owners who are brand new to social media. Through step by step instruction and examples\, attendees will learn how to create and use social media for their business. The training will begin with a classroom style lecture followed by an interactive question and answer session. Please note: Attendees will then be invited to create their social media accounts with the help of the instructor. Attendees will need to bring their own laptop or tablet in order to participate in creating their own social media accounts.
X-ALT-DESC;FMTTYPE=text/html:This course is designed for entrepreneurs and business owners who are brand new to social media. Through step by step instruction and examples\, attendees will learn how to create and use social media for their business. The training will begin with a classroom style lecture followed by an interactive question and answer session. Please note: Attendees will then be invited to create their social media accounts with the help of the instructor. Attendees will need to bring their own laptop or tablet in order to participate in creating their own social media accounts.
LOCATION:GVSU Seidman Center 50 Front Ave. SW Grand Rapids\, MI 49504
UID:e.2018.1143
SEQUENCE:3
DTSTAMP:20260420T062503Z
URL:https://members.westmihcc.org/events/details/introduction-to-social-media-1143
END:VEVENT

END:VCALENDAR
