BEGIN:VCALENDAR
VERSION:2.0
PRODID:-//ChamberMaster//Event Calendar 2.0//EN
METHOD:PUBLISH
X-PUBLISHED-TTL:P3D
REFRESH-INTERVAL:P3D
CALSCALE:GREGORIAN
BEGIN:VEVENT
DTSTART:20170802T160000Z
DTEND:20170802T170000Z
X-MICROSOFT-CDO-ALLDAYEVENT:FALSE
SUMMARY:Is Buying a Franchise Right for Me? - Webinar
DESCRIPTION:Join us to bust some common franchise myths\, and learn about the wide range of categories and investment levels available today. We'll discuss the various entry strategies available in the world of franchising\, ranging from single unit owner/operator to semi-absentee investor to regional developer. You'll learn whether franchising could be a path for achieving your goals\, and how to go about finding the right fit for you! Key topics include:   Basic information on franchising\, including the range of industry categories\, entry and long-term strategies\, investment levels (starting as low as $70K) and fees.   Legal regulations governing franchising that protect the buyer.   A strategic approach to defining your personal business model\, quantifying your returns and safely researching and selecting the business opportunity that's right for you. Presented by SBDC West Michigan and FranNet. No cost! To register\, go online at https://clients.sbdcmichigan.org/workshop.aspx?ekey=70370115 or call SBDC West Michigan at (616)331-7370.
X-ALT-DESC;FMTTYPE=text/html:Join us to bust some common franchise myths\, and learn about the wide range of categories and investment levels available today. We&rsquo\;ll discuss the various entry strategies available in the world of franchising\, ranging from single unit owner/operator to semi-absentee investor to regional developer. You&rsquo\;ll learn whether franchising could be a path for achieving your goals\, and how to go about finding the right fit for you! Key topics include: &bull\; Basic information on franchising\, including the range of industry categories\, entry and long-term strategies\, investment levels (starting as low as $70K) and fees. &bull\; Legal regulations governing franchising that protect the buyer. &bull\; A strategic approach to defining your personal business model\, quantifying your returns and safely researching and selecting the business opportunity that&rsquo\;s right for you. Presented by SBDC West Michigan and FranNet. No cost! To register\, go online at https://clients.sbdcmichigan.org/workshop.aspx?ekey=70370115 or call SBDC West Michigan at (616)331-7370.
LOCATION:Online (Webinar)
UID:e.2018.625
SEQUENCE:3
DTSTAMP:20260423T092702Z
URL:https://members.westmihcc.org/events/details/is-buying-a-franchise-right-for-me-webinar-625
END:VEVENT

END:VCALENDAR
