BEGIN:VCALENDAR
VERSION:2.0
PRODID:-//ChamberMaster//Event Calendar 2.0//EN
METHOD:PUBLISH
X-PUBLISHED-TTL:P3D
REFRESH-INTERVAL:P3D
CALSCALE:GREGORIAN
BEGIN:VEVENT
DTSTART:20190813T230000Z
DTEND:20190814T030000Z
X-MICROSOFT-CDO-ALLDAYEVENT:FALSE
SUMMARY:Jason Moran + Live Skateboarding//Best of Live from OH
DESCRIPTION:Jazz pianist and MacArthur "Genius" Jason Moran takes over Sosnick Courtyard with his trio The Bandwagon (Tarus Mateen and Nasheet Waits)\, as skateboarders shred a halfpipe nearby   an experience of epic proportions! In celebration of Orchestra Hall's Centennial\, stay late for a special watch party featuring 100 minutes (for 100 years) of highlights from the DSO's Live from Orchestra Hall webcast series. https://www.dso.org/TicketsReserve.aspx?performanceNumber=6363
X-ALT-DESC;FMTTYPE=text/html:Jazz pianist and MacArthur &ldquo\;Genius&rdquo\; Jason Moran takes over Sosnick Courtyard with his trio The Bandwagon (Tarus Mateen and Nasheet Waits)\, as skateboarders shred a halfpipe nearby &ndash\; an experience of epic proportions! In celebration of Orchestra Hall&rsquo\;s Centennial\, stay late for a special watch party featuring 100 minutes (for 100 years) of highlights from the DSO&rsquo\;s Live from Orchestra Hall webcast series. https://www.dso.org/TicketsReserve.aspx?performanceNumber=6363
LOCATION:DSO Sosnick Courtyard\, 51 Parsons St.\, Detroit\, MI 48201 (between Cass Ave. and Woodward Ave. - Midtown Detroit) https://www.dso.org/sosnick
UID:e.2018.1299
SEQUENCE:3
DTSTAMP:20260419T230440Z
URL:https://members.westmihcc.org/events/details/jason-moran-live-skateboarding-best-of-live-from-oh-1299
END:VEVENT

END:VCALENDAR
