BEGIN:VCALENDAR
VERSION:2.0
PRODID:-//ChamberMaster//Event Calendar 2.0//EN
METHOD:PUBLISH
X-PUBLISHED-TTL:P3D
REFRESH-INTERVAL:P3D
CALSCALE:GREGORIAN
BEGIN:VEVENT
DTSTART:20180127T000000Z
DTEND:20180127T000000Z
X-MICROSOFT-CDO-ALLDAYEVENT:FALSE
SUMMARY:Jeff Dunham Passively Aggressive
DESCRIPTION:Jeff Dunham Passively Aggressive Location: Van Andel Arena Date/Time: January 26\, 2018 @ 7pm Prices: $51\, Prices subject to change Tickets go on sale Monday\, Sept. 25\, 2017 @ 10am.
X-ALT-DESC;FMTTYPE=text/html:Jeff Dunham Passively Aggressive Location: Van Andel Arena Date/Time: January 26\, 2018 @ 7pm Prices: $51\, Prices subject to change Tickets go on sale Monday\, Sept. 25\, 2017 @ 10am.
LOCATION:Van Andel Arena
UID:e.2018.668
SEQUENCE:3
DTSTAMP:20260423T014843Z
URL:https://members.westmihcc.org/events/details/jeff-dunham-passively-aggressive-668
END:VEVENT

END:VCALENDAR
