BEGIN:VCALENDAR
VERSION:2.0
PRODID:-//ChamberMaster//Event Calendar 2.0//EN
METHOD:PUBLISH
X-PUBLISHED-TTL:P3D
REFRESH-INTERVAL:P3D
CALSCALE:GREGORIAN
BEGIN:VEVENT
DTSTART:20190724T000000Z
DTEND:20190724T030000Z
X-MICROSOFT-CDO-ALLDAYEVENT:FALSE
SUMMARY:Jeff Lynne's ELO
DESCRIPTION:After returning this summer with their first extensive North American tour since 1981\, Jeff Lynne's ELO is set to bring their outstanding live show to even more audiences with a 20-date summer 2019 tour. The trek\, produced by Live Nation\, will travel to Van Andel Arena on Tuesday\, July 23\, 2019 at 8:00PM. Known as one of the most iconic forces in music history\, Jeff Lynne's ELO has spent the last two years with a critically acclaimed and chart-topping album\, a sold out run of UK and European shows\, as well as an induction into the Rock and Roll Hall of Fame. The band has always been known for their epic live shows and with a distinct style that seamlessly and innovatively blends rock\, pop and classical\, ELO has had more than 20 Top 40 Hits across the U.S. and the U.K.\, making Lynne's sweeping productions some of the most recognizable music of the last forty years and helping sell over 50 million records worldwide.
X-ALT-DESC;FMTTYPE=text/html:After returning this summer with their first extensive North American tour since 1981\, Jeff Lynne&#39\;s ELO is set to bring their outstanding live show to even more audiences with a 20-date summer 2019 tour. The trek\, produced by Live Nation\, will travel to Van Andel Arena on Tuesday\, July 23\, 2019 at 8:00PM. Known as one of the most iconic forces in music history\, Jeff Lynne&#39\;s ELO has spent the last two years with a critically acclaimed and chart-topping album\, a sold out run of UK and European shows\, as well as an induction into the Rock and Roll Hall of Fame. The band has always been known for their epic live shows and with a distinct style that seamlessly and innovatively blends rock\, pop and classical\, ELO has had more than 20 Top 40 Hits across the U.S. and the U.K.\, making Lynne&#39\;s sweeping productions some of the most recognizable music of the last forty years and helping sell over 50 million records worldwide.
LOCATION:Van Andel Arena
UID:e.2018.987
SEQUENCE:3
DTSTAMP:20260420T002153Z
URL:https://members.westmihcc.org/events/details/jeff-lynne-s-elo-987
END:VEVENT

END:VCALENDAR
