BEGIN:VCALENDAR
VERSION:2.0
PRODID:-//ChamberMaster//Event Calendar 2.0//EN
METHOD:PUBLISH
X-PUBLISHED-TTL:P3D
REFRESH-INTERVAL:P3D
CALSCALE:GREGORIAN
BEGIN:VEVENT
DTSTART:20190922T010000Z
DTEND:20190922T043000Z
X-MICROSOFT-CDO-ALLDAYEVENT:FALSE
SUMMARY:Jeff "Tain" Watts Trio
DESCRIPTION:A true jazz innovator\, drummer Jeff "Tain" Watts never fails to deliver the percussive magic that has been his trademark since his emergence on the contemporary jazz scene. Watts will be joined by bassist Robert Hurst and guitarist Paul Bollenback.
X-ALT-DESC;FMTTYPE=text/html:A true jazz innovator\, drummer Jeff &ldquo\;Tain&rdquo\; Watts never fails to deliver the percussive magic that has been his trademark since his emergence on the contemporary jazz scene. Watts will be joined by bassist Robert Hurst and guitarist Paul Bollenback.
LOCATION:The Cube 3711 Woodward Avenue Detroit\, MI 48201
UID:e.2018.1328
SEQUENCE:3
DTSTAMP:20260419T212312Z
URL:https://members.westmihcc.org/events/details/jeff-tain-watts-trio-1328
END:VEVENT

END:VCALENDAR
