BEGIN:VCALENDAR
VERSION:2.0
PRODID:-//ChamberMaster//Event Calendar 2.0//EN
METHOD:PUBLISH
X-PUBLISHED-TTL:P3D
REFRESH-INTERVAL:P3D
CALSCALE:GREGORIAN
BEGIN:VEVENT
DTSTART:20180718T233000Z
DTEND:20180719T020000Z
X-MICROSOFT-CDO-ALLDAYEVENT:FALSE
SUMMARY:Johnny Mathis
DESCRIPTION:Celebrating his 62nd year in the music industry\, legendary singer Johnny Mathis is Columbia Records longest-signed artist. A sublime vocalist whose approach to pop music eclipses passing fads and trends\, Mathis has performed songs in an incredible variety of styles and categories -- from music composed for stage and film to golden era jazz standards\, contemporary pop hits\, and holiday music\, all of which has assured his reputation as one of the most enduring vocalists in music history. "There are a number of good singers\, a smaller handful of truly great singers\, and then there's Johnny Mathis." - Letter from Barbra Streisand Tickets go on sale to the general public Friday\, March 23rd at 10:00AM.
X-ALT-DESC;FMTTYPE=text/html:Celebrating his 62nd year in the music industry\, legendary singer Johnny Mathis is Columbia Records longest-signed artist. A sublime vocalist whose approach to pop music eclipses passing fads and trends\, Mathis has performed songs in an incredible variety of styles and categories -- from music composed for stage and film to golden era jazz standards\, contemporary pop hits\, and holiday music\, all of which has assured his reputation as one of the most enduring vocalists in music history. &quot\;There are a number of good singers\, a smaller handful of truly great singers\, and then there&#39\;s Johnny Mathis.&quot\; - Letter from Barbra Streisand Tickets go on sale to the general public Friday\, March 23rd at 10:00AM.
LOCATION:DeVos Performance Hall
UID:e.2018.807
SEQUENCE:3
DTSTAMP:20260422T155710Z
URL:https://members.westmihcc.org/events/details/johnny-mathis-807
END:VEVENT

END:VCALENDAR
