BEGIN:VCALENDAR
VERSION:2.0
PRODID:-//ChamberMaster//Event Calendar 2.0//EN
METHOD:PUBLISH
X-PUBLISHED-TTL:P3D
REFRESH-INTERVAL:P3D
CALSCALE:GREGORIAN
BEGIN:VEVENT
DTSTART:20191122T230000Z
DTEND:20191123T040000Z
X-MICROSOFT-CDO-ALLDAYEVENT:FALSE
SUMMARY:Jordan Peele’s Get Out and Us + Talk by Tananarive Due
DESCRIPTION:Enjoy back-to-back film screenings of Jordan Peele's Get Out and Us. Following the first film screening\, Get Out\, award-winning author and UCLA professor Tananarive Due will present "The Sunken Place" where she will discuss the history of Black Horror and explore themes covered in Get Out. *The DSO does not appear on this program. This event is FREE and open to the public\, but a no-cost ticket is required for entry. Get Out - 6pm The award winning thriller Get Out is the story of a young African-American man who visits his white girlfriend's family estate and uncovers a disturbing secret. (104 minutes) Talk by Tananarive Due - 8pm Tananarive Due is an executive producer on Shudder's groundbreaking documentary Horror Noire: A History of Black Horror. She recently wrote the introduction for a published version of Jordan Peele's Get Out. Us - 10pm Us is a gripping\, socially conscious horror film directed by Jordan Peele. Starring Lupita Nyong'o\, the film tells the story of a family who arrives at their summer home and is attacked by a group of menacing doppelgangers. (116 minutes)
X-ALT-DESC;FMTTYPE=text/html:Enjoy back-to-back film screenings of Jordan Peele&rsquo\;s Get Out and Us. Following the first film screening\, Get Out\, award-winning author and UCLA professor Tananarive Due will present &ldquo\;The Sunken Place&rdquo\; where she will discuss the history of Black Horror and explore themes covered in Get Out. *The DSO does not appear on this program. This event is FREE and open to the public\, but a no-cost ticket is required for entry. Get Out - 6pm The award winning thriller Get Out is the story of a young African-American man who visits his white girlfriend&rsquo\;s family estate and uncovers a disturbing secret. (104 minutes) Talk by Tananarive Due - 8pm Tananarive Due is an executive producer on Shudder&#39\;s groundbreaking documentary Horror Noire: A History of Black Horror. She recently wrote the introduction for a published version of Jordan Peele&#39\;s Get Out. Us - 10pm Us is a gripping\, socially conscious horror film directed by Jordan Peele. Starring Lupita Nyong&rsquo\;o\, the film tells the story of a family who arrives at their summer home and is attacked by a group of menacing doppelgangers. (116 minutes)
LOCATION:The CUBE 3711 Woodward Avenue Detroit\, MI 48201
UID:e.2018.1388
SEQUENCE:3
DTSTAMP:20260419T183156Z
URL:https://members.westmihcc.org/events/details/jordan-peele-s-get-out-and-us-talk-by-tananarive-due-1388
END:VEVENT

END:VCALENDAR
