BEGIN:VCALENDAR
VERSION:2.0
PRODID:-//ChamberMaster//Event Calendar 2.0//EN
METHOD:PUBLISH
X-PUBLISHED-TTL:P3D
REFRESH-INTERVAL:P3D
CALSCALE:GREGORIAN
BEGIN:VEVENT
DTSTART:20190518T220000Z
DTEND:20190519T010000Z
X-MICROSOFT-CDO-ALLDAYEVENT:FALSE
SUMMARY:Journey to Justice
DESCRIPTION:Join us for an evening of reflecting on our journey to becoming a statewide organization as well as the journey of the individuals and families we work with who come to Michigan as immigrants\, refugees and asylum seekers. Bishop Minerva Carcano will be joining us for the evening. Dinner will be catered by San Chez Bistro. Whether you have been with us on our journey from the beginning or want to learn more we invite you to join us!
X-ALT-DESC;FMTTYPE=text/html:<span style="background-color:rgb(255\, 255\, 255)"><span style="font-size:13px">Join us for an evening of reflecting on our journey to becoming a statewide organization as well as the journey of the individuals&nbsp\;and families we work with who come to Michigan as immigrants\, refugees and asylum seekers. Bishop Minerva Carcano will be joining us for the evening. Dinner will be catered by San Chez Bistro. Whether you have been with us on our journey from the beginning or want to learn more we invite you to join us!&nbsp\;</span></span>
LOCATION:UICA 2 Fulton W Grand Rapids\, MI 49503
UID:e.2018.1144
SEQUENCE:3
DTSTAMP:20260420T032630Z
URL:https://members.westmihcc.org/events/details/journey-to-justice-1144
END:VEVENT

END:VCALENDAR
