BEGIN:VCALENDAR
VERSION:2.0
PRODID:-//ChamberMaster//Event Calendar 2.0//EN
METHOD:PUBLISH
X-PUBLISHED-TTL:P3D
REFRESH-INTERVAL:P3D
CALSCALE:GREGORIAN
BEGIN:VEVENT
DTSTART:20190405T003000Z
DTEND:20190405T030000Z
X-MICROSOFT-CDO-ALLDAYEVENT:FALSE
SUMMARY:Justin Timberlake Man of the Woods Tour
DESCRIPTION:Following wildly successful concerts in North America and Europe\, Live Nation has now confirmed that Justin Timberlake's "Man of the Woods" tour will make a return visit to both Detroit and Columbus with a very special first appearance at Van Andel Arena in Grand Rapids on Thursday\, April 4\, 2019 at 7:30PM. The tour will feature "futurist spectacle of sleek angles and high-tech lights" (Commercial Appeal). The show is being praised for its 360-degree multistage layout featuring an extensive winding walkway\, simulating a path in the woods\, which allows Timberlake and his dancers to get closer to fans on all sides of the arena. Billboard Magazine said\, "...whether through impressive choreography or mind-blowing special effects\, the singer has always created a memerizing experience for his fans on tour -- but The Man Of The Woods Tour takes that to a whole new level\," The performance includes sleek dance numbers\, cutting edge lasers and 3D projections to bring to life the setlist filled with fresh takes on his slew of hit songs\, from his five chart-topping albums\, including "Mirrors\," "Sexyback\," "Suit & Tie\," "My Love\," and the Oscar-nominated "Can't Stop The Feeling."
X-ALT-DESC;FMTTYPE=text/html:Following wildly successful concerts in North America and Europe\, Live Nation has now confirmed that Justin Timberlake&#39\;s &quot\;Man of the Woods&quot\; tour will make a return visit to both Detroit and Columbus with a very special first appearance at Van Andel Arena in Grand Rapids on Thursday\, April 4\, 2019 at 7:30PM. The tour will feature &quot\;futurist spectacle of sleek angles and high-tech lights&quot\; (Commercial Appeal). The show is being praised for its 360-degree multistage layout featuring an extensive winding walkway\, simulating a path in the woods\, which allows Timberlake and his dancers to get closer to fans on all sides of the arena. Billboard Magazine said\, &quot\;...whether through impressive choreography or mind-blowing special effects\, the singer has always created a memerizing experience for his fans on tour -- but The Man Of The Woods Tour takes that to a whole new level\,&quot\; The performance includes sleek dance numbers\, cutting edge lasers and 3D projections to bring to life the setlist filled with fresh takes on his slew of hit songs\, from his five chart-topping albums\, including &quot\;Mirrors\,&quot\; &quot\;Sexyback\,&quot\; &quot\;Suit &amp\; Tie\,&quot\; &quot\;My Love\,&quot\; and the Oscar-nominated &quot\;Can&#39\;t Stop The Feeling.&quot\;
LOCATION:Van Andel Arena
UID:e.2018.1006
SEQUENCE:3
DTSTAMP:20260420T050705Z
URL:https://members.westmihcc.org/events/details/justin-timberlake-man-of-the-woods-tour-1006
END:VEVENT

END:VCALENDAR
