BEGIN:VCALENDAR
VERSION:2.0
PRODID:-//ChamberMaster//Event Calendar 2.0//EN
METHOD:PUBLISH
X-PUBLISHED-TTL:P3D
REFRESH-INTERVAL:P3D
CALSCALE:GREGORIAN
BEGIN:VEVENT
DTSTART:20160928T000000Z
DTEND:20160928T030000Z
X-MICROSOFT-CDO-ALLDAYEVENT:FALSE
SUMMARY:Kanye West: The Saint Pablo Tour
DESCRIPTION:Kanye West   the 22-time Grammy Award winning\, visionary multi-disciplinary artist who has sold over 30 Million albums worldwide and has twice been named to Time Magazine's 100 most influential people in the world - today unveiled details for THE SAINT PABLO TOUR. The North American tour\, promoted exclusively by Live Nation\, will kick off in August at Banker's Life Arena in Indianapolis\, IN. West will visit nearly 40 cities across the U.S. and Canada. Tickets will go on sale Saturday\, June 18 at 10:00 AM. Tickets will be available at the Van Andel Arena and DeVos Place  box offices\, online at Ticketmaster.com\, and by phone at 1-800-745-3000. Ticket prices are subject to change.
X-ALT-DESC;FMTTYPE=text/html:Kanye West &ndash\; the 22-time Grammy Award winning\, visionary multi-disciplinary artist who has sold over 30 Million albums worldwide and has twice been named to Time Magazine&rsquo\;s 100 most influential people in the world - today unveiled details for THE SAINT PABLO TOUR. The North American tour\, promoted exclusively by Live Nation\, will kick off in August at Banker&rsquo\;s Life Arena in Indianapolis\, IN. West will visit nearly 40 cities across the U.S. and Canada. Tickets will go on sale Saturday\, June 18 at 10:00 AM. Tickets will be available at the Van Andel Arena and DeVos Place&reg\; box offices\, online at Ticketmaster.com\, and by phone at 1-800-745-3000. Ticket prices are subject to change.
LOCATION:Van Andel Arena 130 W Fulton Grand Rapids\, MI 49503
UID:e.2018.406
SEQUENCE:3
DTSTAMP:20260425T225912Z
URL:https://members.westmihcc.org/events/details/kanye-west-the-saint-pablo-tour-09-27-2016-406
END:VEVENT

END:VCALENDAR
