BEGIN:VCALENDAR
VERSION:2.0
PRODID:-//ChamberMaster//Event Calendar 2.0//EN
METHOD:PUBLISH
X-PUBLISHED-TTL:P3D
REFRESH-INTERVAL:P3D
CALSCALE:GREGORIAN
BEGIN:VEVENT
DTSTART:20171208T000000Z
DTEND:20171208T040000Z
X-MICROSOFT-CDO-ALLDAYEVENT:FALSE
SUMMARY:Katy Perry
DESCRIPTION:Due to overwhelming demand\, Katy Perry has added additional dates to her WITNESS: The Tour. The North American leg of WITNESS: The Tour produced by AEG Presents will make a stop in Grand Rapids at Van Andel Arena on Thursday\, December 7\, 2017 at 7:00 PM. Click here to watch a special tour announcement video. Tickets for the Grand Rapids concert go on sale to general public\, Friday\, June 16 at 12 PM. Tickets will be available at the Van Andel Arena and DeVos Place  box offices\, online at Ticketmaster.com\, and charge by phone at 1-800-745-3000. A purchase limit of eight (8) tickets will apply to every order\, and prices are subject to change. Members of Van Andel Arena's email list will have access to an exclusive presale on Thursday\, June 15. Sign up by June 13 to receive access here. All U.S. concerts on WITNESS: The Tour are presented by Xfinity. Additional sponsors are Citi\, COVERGIRL and KATY PERRY PARFUMS.
X-ALT-DESC;FMTTYPE=text/html:Due to overwhelming demand\, Katy Perry has added additional dates to her WITNESS: The Tour. The North American leg of WITNESS: The Tour produced by AEG Presents will make a stop in Grand Rapids at Van Andel Arena on Thursday\, December 7\, 2017 at 7:00 PM. Click here to watch a special tour announcement video. Tickets for the Grand Rapids concert go on sale to general public\, Friday\, June 16 at 12 PM. Tickets will be available at the Van Andel Arena and DeVos Place&reg\; box offices\, online at Ticketmaster.com\, and charge by phone at 1-800-745-3000. A purchase limit of eight (8) tickets will apply to every order\, and prices are subject to change. Members of Van Andel Arena&#39\;s email list will have access to an exclusive presale on Thursday\, June 15. Sign up by June 13 to receive access here. All U.S. concerts on WITNESS: The Tour are presented by Xfinity. Additional sponsors are Citi\, COVERGIRL and KATY PERRY PARFUMS.
LOCATION:Van Andel Arena
UID:e.2018.622
SEQUENCE:3
DTSTAMP:20260423T021018Z
URL:https://members.westmihcc.org/events/details/katy-perry-622
END:VEVENT

END:VCALENDAR
