BEGIN:VCALENDAR
VERSION:2.0
PRODID:-//ChamberMaster//Event Calendar 2.0//EN
METHOD:PUBLISH
X-PUBLISHED-TTL:P3D
REFRESH-INTERVAL:P3D
CALSCALE:GREGORIAN
BEGIN:VEVENT
DTSTART:20181019T233000Z
DTEND:20181020T030000Z
X-MICROSOFT-CDO-ALLDAYEVENT:FALSE
SUMMARY:Keith Urban
DESCRIPTION:Grand Rapids   Four-time Grammy Award winner Keith Urban will bring his "GRAFFITI U WORLD TOUR 2018" to Van Andel Arena in Grand Rapids on Friday\, October 19\, 2018 at 7:30 PM. The tour will feature special guest Kelsea Ballerini as Urban's supporting act. Tickets go on sale to the general public beginning Friday\, March 2 at 10 AM. Ticket prices are $39\, $65.50\, and $96.50\, and tickets will be available at the Van Andel Arena and DeVos Place  box offices\, online at Ticketmaster.com\, and charge by phone at 1-800-745-3000. A purchase limit of eight (8) tickets will apply to all orders and prices are subject to change. The 58-city tour will kick off in June and run through November. Urban's shows have become concert events that electrify. They're unexpected\, if not unpredictable\, and have been hailed by media around the world as a "concert experience not to be missed." The tour will feature many of Urban's 23 #1 songs\, as well as brand new songs that have never before.
X-ALT-DESC;FMTTYPE=text/html:Grand Rapids &mdash\; Four-time Grammy Award winner Keith Urban will bring his &ldquo\;GRAFFITI U WORLD TOUR 2018&rdquo\; to Van Andel Arena in Grand Rapids on Friday\, October 19\, 2018 at 7:30 PM. The tour will feature special guest Kelsea Ballerini as Urban&rsquo\;s supporting act. Tickets go on sale to the general public beginning Friday\, March 2 at 10 AM. Ticket prices are $39\, $65.50\, and $96.50\, and tickets will be available at the Van Andel Arena and DeVos Place&reg\; box offices\, online at Ticketmaster.com\, and charge by phone at 1-800-745-3000. A purchase limit of eight (8) tickets will apply to all orders and prices are subject to change. The 58-city tour will kick off in June and run through November. Urban&rsquo\;s shows have become concert events that electrify. They&rsquo\;re unexpected\, if not unpredictable\, and have been hailed by media around the world as a &ldquo\;concert experience not to be missed.&rdquo\; The tour will feature many of Urban&rsquo\;s 23 #1 songs\, as well as brand new songs that have never before.
LOCATION:Van Andel Arena
UID:e.2018.795
SEQUENCE:3
DTSTAMP:20260422T122115Z
URL:https://members.westmihcc.org/events/details/keith-urban-795
END:VEVENT

END:VCALENDAR
