BEGIN:VCALENDAR
VERSION:2.0
PRODID:-//ChamberMaster//Event Calendar 2.0//EN
METHOD:PUBLISH
X-PUBLISHED-TTL:P3D
REFRESH-INTERVAL:P3D
CALSCALE:GREGORIAN
BEGIN:VEVENT
DTSTART:20161016T220000Z
DTEND:20161017T020000Z
X-MICROSOFT-CDO-ALLDAYEVENT:FALSE
SUMMARY:Kellogg's Tour of Gymnastics Champions
DESCRIPTION:Three-time World all-around champion Simone Biles of Spring\, Texas\; World Champion Centre\, 2012 Olympic team and all-around champion Gabby Douglas of Virginia Beach\, Va.\; Buckeye Gymnastics\, 2012 Olympic team and floor exercise champion Aly Raisman of Needham\, Mass.\; Brestyan?s American Gymnastics\, 2008 Olympic all-around champion Nastia Liukin and 2012 Olympic team gold-medalist Jordyn Wieber headline the 2016 Kellogg's Tour of Gymnastics Champions cast that also includes members of the both 2012 and 2016 U.S. Olympic Gymnastics Teams. The 2016 Kellogg's Tour of Gymnastics Champions\, which begins on Sept. 15 in Spokane\, Wash.\, will visit 36 cities across the nation\, including a stop in Grand Rapids at Van Andel Arena on Sunday\, October 16\, 2016 at 6:00 PM\, before wrapping up Nov. 13 in Boston\, Mass. "Gymnastics fans across the nation will get to see the biggest names in the sport at the Kellogg?s Tour of Gymnastics Champions\," said Steve Penny\, president of USA Gymnastics. ?The Kellogg?s Tour is always a lot of fun and a great way for Americans to celebrate the athletes? performances at the Olympic Games.? Local gymnasts are expected to join the cast of gymnastics champions on October 16. Tickets go on sale beginning Thursday\, June 23 at 10:00 AM. Ticket prices are $29\, $49\, $69\, $85\, $150 (Platinum tickets)\, and $299 for VIP. Tickets will be available at the Van Andel Arena and DeVos Place  box offices\, all Ticketmaster outlets\, online at Ticketmaster.com\, and by phone at 1-800-745-3000. Groups of six or more save on tickets! For group sales information\, call (616) 742-6185 or email GroupSales@smggr.com. A discount ticket program for gymnastics clubs is available\, with club incentives based on ticket sales. The limited number of VIP packages available include a pre-show Nastia Liukin Chalk Talk\, led by Liukin\, along with selected members of the 2016 U.S. Olympic Gymnastics Team\; seats in the first two rows\; and a post-show autograph session. Platinum tickets include the pre-show Nastia Liukin Chalk Talk with selected members of the 2016 U.S. Olympic Gymnastics Team.
X-ALT-DESC;FMTTYPE=text/html:Three-time World all-around champion Simone Biles of Spring\, Texas\; World Champion Centre\, 2012 Olympic team and all-around champion Gabby Douglas of Virginia Beach\, Va.\; Buckeye Gymnastics\, 2012 Olympic team and floor exercise champion Aly Raisman of Needham\, Mass.\; Brestyan?s American Gymnastics\, 2008 Olympic all-around champion Nastia Liukin and 2012 Olympic team gold-medalist Jordyn Wieber headline the 2016 Kellogg&#39\;s Tour of Gymnastics Champions cast that also includes members of the both 2012 and 2016 U.S. Olympic Gymnastics Teams. The 2016 Kellogg&#39\;s Tour of Gymnastics Champions\, which begins on Sept. 15 in Spokane\, Wash.\, will visit 36 cities across the nation\, including a stop in Grand Rapids at Van Andel Arena on Sunday\, October 16\, 2016 at 6:00 PM\, before wrapping up Nov. 13 in Boston\, Mass. &quot\;Gymnastics fans across the nation will get to see the biggest names in the sport at the Kellogg?s Tour of Gymnastics Champions\,&quot\; said Steve Penny\, president of USA Gymnastics. ?The Kellogg?s Tour is always a lot of fun and a great way for Americans to celebrate the athletes? performances at the Olympic Games.? Local gymnasts are expected to join the cast of gymnastics champions on October 16. Tickets go on sale beginning Thursday\, June 23 at 10:00 AM. Ticket prices are $29\, $49\, $69\, $85\, $150 (Platinum tickets)\, and $299 for VIP. Tickets will be available at the Van Andel Arena and DeVos Place&reg\; box offices\, all Ticketmaster outlets\, online at Ticketmaster.com\, and by phone at 1-800-745-3000. Groups of six or more save on tickets! For group sales information\, call (616) 742-6185 or email GroupSales@smggr.com. A discount ticket program for gymnastics clubs is available\, with club incentives based on ticket sales. The limited number of VIP packages available include a pre-show Nastia Liukin Chalk Talk\, led by Liukin\, along with selected members of the 2016 U.S. Olympic Gymnastics Team\; seats in the first two rows\; and a post-show autograph session. Platinum tickets include the pre-show Nastia Liukin Chalk Talk with selected members of the 2016 U.S. Olympic Gymnastics Team.
LOCATION:Van Andel Arena
UID:e.2018.387
SEQUENCE:3
DTSTAMP:20260425T213314Z
URL:https://members.westmihcc.org/events/details/kellogg-s-tour-of-gymnastics-champions-10-16-2016-387
END:VEVENT

END:VCALENDAR
