BEGIN:VCALENDAR
VERSION:2.0
PRODID:-//ChamberMaster//Event Calendar 2.0//EN
METHOD:PUBLISH
X-PUBLISHED-TTL:P3D
REFRESH-INTERVAL:P3D
CALSCALE:GREGORIAN
BEGIN:VEVENT
DTSTART:20190215T000000Z
DTEND:20190215T030000Z
X-MICROSOFT-CDO-ALLDAYEVENT:FALSE
SUMMARY:Kelly Clarkson Meaning of Life Tour
DESCRIPTION:GRAMMY Award-winning global superstar Kelly Clarkson has announced her highly anticipated Meaning Of Life Tour. Kicking off January 24th in Oakland\, CA\, the 28-show trek will see Clarkson playing arenas across the United States on her first headline run in three years. The tour will stop in Grand Rapids on Thursday\, February 14\, 2019 at 7:00 PM at Van Andel Arena. Tickets go on sale Monday\, September 24\, 2018 @ 10 AM.
X-ALT-DESC;FMTTYPE=text/html:GRAMMY Award-winning global superstar Kelly Clarkson has announced her highly anticipated Meaning Of Life Tour. Kicking off January 24th in Oakland\, CA\, the 28-show trek will see Clarkson playing arenas across the United States on her first headline run in three years. The tour will stop in Grand Rapids on Thursday\, February 14\, 2019 at 7:00 PM at Van Andel Arena. Tickets go on sale Monday\, September 24\, 2018 @ 10 AM.
LOCATION:Van Andel Arena
UID:e.2018.963
SEQUENCE:3
DTSTAMP:20260420T080446Z
URL:https://members.westmihcc.org/events/details/kelly-clarkson-meaning-of-life-tour-963
END:VEVENT

END:VCALENDAR
