BEGIN:VCALENDAR
VERSION:2.0
PRODID:-//ChamberMaster//Event Calendar 2.0//EN
METHOD:PUBLISH
X-PUBLISHED-TTL:P3D
REFRESH-INTERVAL:P3D
CALSCALE:GREGORIAN
BEGIN:VEVENT
DTSTART:20180706T230000Z
DTEND:20180707T020000Z
X-MICROSOFT-CDO-ALLDAYEVENT:FALSE
SUMMARY:Kesha
DESCRIPTION:Pop star Kesha brings the "Rainbow Tour 2018" to Van Andel Arena on Friday\, July 6\, 2018. Kesha's latest album 'Rainbow'\, called "an artistic feat" by Entertainment Weekly and "the best music of her career" by Rolling Stone\, marks a new beginning for Kesha. Based around inner strength and musical exploration\, her latest No. 1 album finds Kesha at "her defiant\, unbridled best" (USA Today)\, boasting collaborators ranging from Ben Folds to Eagles to Death Metal to Dolly Parton. The album has garnered praise from the New York Times\, Billboard\, NPR Music and more\, and earned Kesha her first-ever GRAMMY nominations at the 60th Annual GRAMMY Awards for "Best Pop Vocal Album" and "Best Pop Solo Performance" for "Praying."
X-ALT-DESC;FMTTYPE=text/html:Pop star Kesha brings the &quot\;Rainbow Tour 2018&quot\; to Van Andel Arena on Friday\, July 6\, 2018. Kesha&#39\;s latest album &#39\;Rainbow&#39\;\, called &quot\;an artistic feat&quot\; by Entertainment Weekly and &quot\;the best music of her career&quot\; by Rolling Stone\, marks a new beginning for Kesha. Based around inner strength and musical exploration\, her latest No. 1 album finds Kesha at &quot\;her defiant\, unbridled best&quot\; (USA Today)\, boasting collaborators ranging from Ben Folds to Eagles to Death Metal to Dolly Parton. The album has garnered praise from the New York Times\, Billboard\, NPR Music and more\, and earned Kesha her first-ever GRAMMY nominations at the 60th Annual GRAMMY Awards for &quot\;Best Pop Vocal Album&quot\; and &quot\;Best Pop Solo Performance&quot\; for &quot\;Praying.&quot\;
LOCATION:Van Andel Arena
UID:e.2018.794
SEQUENCE:3
DTSTAMP:20260422T155733Z
URL:https://members.westmihcc.org/events/details/kesha-794
END:VEVENT

END:VCALENDAR
