BEGIN:VCALENDAR
VERSION:2.0
PRODID:-//ChamberMaster//Event Calendar 2.0//EN
METHOD:PUBLISH
X-PUBLISHED-TTL:P3D
REFRESH-INTERVAL:P3D
CALSCALE:GREGORIAN
BEGIN:VEVENT
DTSTART:20180722T230000Z
DTEND:20180723T020000Z
X-MICROSOFT-CDO-ALLDAYEVENT:FALSE
SUMMARY:Kevin Hart: The Irresponsible Tour
DESCRIPTION:The widely successful and massively hysterical 'The Kevin Hart Irresponsible Tour' comes to SMG-managed Van Andel Arena on Sunday\, July 22nd. Hart's last multi-city domestic and international WHAT NOW comedy tour sold out large venues all over the world\, including being the first comedian to sell out an NFL stadium\, selling over 50\,000 tickets in one show at Lincoln Financial Field. Internationally\, he sold out over a dozen arenas in the European market\, selling over 150\,000 tickets\, and sold out arenas across Australia\, selling 100\,000 tickets. Hart's hit comedy tour grossed over $100 million worldwide. Tickets go on sale Wednesday\, January 31\, 2018 @ 12 PM. Tickets may be purchased at the Van Andel Arena  and DeVos Place  convention center box offices\, charge by phone: 1.800.745.3000 or on-line at Ticketmaster.com. A purchase limit of four (4) tickets will apply to every order and prices are subject to change.
X-ALT-DESC;FMTTYPE=text/html:The widely successful and massively hysterical &#39\;The Kevin Hart Irresponsible Tour&#39\; comes to SMG-managed Van Andel Arena on Sunday\, July 22nd. Hart&rsquo\;s last multi-city domestic and international WHAT NOW comedy tour sold out large venues all over the world\, including being the first comedian to sell out an NFL stadium\, selling over 50\,000 tickets in one show at Lincoln Financial Field. Internationally\, he sold out over a dozen arenas in the European market\, selling over 150\,000 tickets\, and sold out arenas across Australia\, selling 100\,000 tickets. Hart&rsquo\;s hit comedy tour grossed over $100 million worldwide. Tickets go on sale Wednesday\, January 31\, 2018 @ 12 PM. Tickets may be purchased at the Van Andel Arena&reg\; and DeVos Place&reg\; convention center box offices\, charge by phone: 1.800.745.3000 or on-line at Ticketmaster.com. A purchase limit of four (4) tickets will apply to every order and prices are subject to change.
LOCATION:Van Andel Arena
UID:e.2018.756
SEQUENCE:3
DTSTAMP:20260422T171931Z
URL:https://members.westmihcc.org/events/details/kevin-hart-the-irresponsible-tour-756
END:VEVENT

END:VCALENDAR
