BEGIN:VCALENDAR
VERSION:2.0
PRODID:-//ChamberMaster//Event Calendar 2.0//EN
METHOD:PUBLISH
X-PUBLISHED-TTL:P3D
REFRESH-INTERVAL:P3D
CALSCALE:GREGORIAN
BEGIN:VEVENT
DTSTART:20190627T140000Z
DTEND:20190627T160000Z
X-MICROSOFT-CDO-ALLDAYEVENT:FALSE
SUMMARY:Key Realty Education Series - All Agents Welcome!
DESCRIPTION:Weekly Training at Key Realty - Open to ALL agents. (Not just Key Agents)
X-ALT-DESC;FMTTYPE=text/html:<span style="color:rgb(85\, 85\, 85)\; font-family:helvetica neue\,helvetica\,arial\,sans-serif\; font-size:16px">Weekly Training at Key Realty - Open to ALL agents. (Not just Key Agents)</span>
LOCATION:Key Realty West Michigan 2450 44th St SE\, Suite 101 Grand Rapids\, MI 49512 Tip: Take the elevator DOWN to the first floor\, then take a left.
UID:e.2018.1170
SEQUENCE:3
DTSTAMP:20260420T033230Z
URL:https://members.westmihcc.org/events/details/key-realty-education-series-all-agents-welcome-06-27-2019-1170
END:VEVENT

END:VCALENDAR
