BEGIN:VCALENDAR
VERSION:2.0
PRODID:-//ChamberMaster//Event Calendar 2.0//EN
METHOD:PUBLISH
X-PUBLISHED-TTL:P3D
REFRESH-INTERVAL:P3D
CALSCALE:GREGORIAN
BEGIN:VEVENT
DTSTART:20190411T220000Z
DTEND:20190412T000000Z
X-MICROSOFT-CDO-ALLDAYEVENT:FALSE
SUMMARY:Key Realty Education Series - All Agents Welcome!
DESCRIPTION:Weekly Training at Key Realty - Open to ALL agents. (Not just Key Agents)
X-ALT-DESC;FMTTYPE=text/html:Weekly Training at Key Realty - Open to ALL agents. (Not just Key Agents)<br />\n&nbsp\;
LOCATION:Key Realty West Michigan 2450 44th St. SE\, Suite 101 Grand Rapids\, MI 49512 (Across from Horrock's)
UID:e.2018.1159
SEQUENCE:3
DTSTAMP:20260420T050257Z
URL:https://members.westmihcc.org/events/details/key-realty-weekly-training-all-agents-welcome-04-11-2019-1159
END:VEVENT

END:VCALENDAR
