BEGIN:VCALENDAR
VERSION:2.0
PRODID:-//ChamberMaster//Event Calendar 2.0//EN
METHOD:PUBLISH
X-PUBLISHED-TTL:P3D
REFRESH-INTERVAL:P3D
CALSCALE:GREGORIAN
BEGIN:VEVENT
DTSTART:20190328T220000Z
DTEND:20190329T000000Z
X-MICROSOFT-CDO-ALLDAYEVENT:FALSE
SUMMARY:Key Realty Education Series - All Agents Welcome!
DESCRIPTION:Free weekly training for agents - open to all agents (even if you're not with Key).
X-ALT-DESC;FMTTYPE=text/html:Free weekly training for agents - open to all agents (even if you&#39\;re not with Key).<br />\n<br />\n<br />\n<br />\n&nbsp\;
LOCATION:Training is held at the Key Office. 2450 44th St SE\, Suite 101 Grand Rapids\, MI 49512 TIP: Take the elevator DOWN to the 1st floor and take a left.
UID:e.2018.1158
SEQUENCE:3
DTSTAMP:20260420T062530Z
URL:https://members.westmihcc.org/events/details/key-realty-weekly-training-all-agents-welcome-1158
END:VEVENT

END:VCALENDAR
