BEGIN:VCALENDAR
VERSION:2.0
PRODID:-//ChamberMaster//Event Calendar 2.0//EN
METHOD:PUBLISH
X-PUBLISHED-TTL:P3D
REFRESH-INTERVAL:P3D
CALSCALE:GREGORIAN
BEGIN:VEVENT
DTSTART:20170906T233000Z
DTEND:20170907T030000Z
X-MICROSOFT-CDO-ALLDAYEVENT:FALSE
SUMMARY:Kid Rock
DESCRIPTION:Kid Rock returns to Van Andel Arena with special guest Robert Randolph and The Family Band. Tickets go on sale Friday\, June 16th at 10:00 am. Tickets may be purchased at the Van Andel Arena  and DeVos Place  convention center box offices\, charge by phone: 1.800.745.3000 or on-line at Ticketmaster.com. Ticket prices are subject to change.
X-ALT-DESC;FMTTYPE=text/html:Kid Rock returns to Van Andel Arena with special guest Robert Randolph and The Family Band. Tickets go on sale Friday\, June 16th at 10:00 am. Tickets may be purchased at the Van Andel Arena&reg\; and DeVos Place&reg\; convention center box offices\, charge by phone: 1.800.745.3000 or on-line at Ticketmaster.com. Ticket prices are subject to change.
LOCATION:Van Andel Arena
UID:e.2018.623
SEQUENCE:3
DTSTAMP:20260423T063004Z
URL:https://members.westmihcc.org/events/details/kid-rock-623
END:VEVENT

END:VCALENDAR
