BEGIN:VCALENDAR
VERSION:2.0
PRODID:-//ChamberMaster//Event Calendar 2.0//EN
METHOD:PUBLISH
X-PUBLISHED-TTL:P3D
REFRESH-INTERVAL:P3D
CALSCALE:GREGORIAN
BEGIN:VEVENT
DTSTART:20170121T150000Z
DTEND:20170121T220000Z
X-MICROSOFT-CDO-ALLDAYEVENT:FALSE
SUMMARY:Kids and Family Expo - January 21\, 2017
DESCRIPTION:Kids & Family Expo January 21\, 2017 (Saturday) Hours: 10am   5pm DeVos Place-Grand Rapids\, MI www.kidsandfamilyexpo.com Ride a Zip Line through the DeVos Place! Family Bonding Activities\, Education & Fun! By the time January rolls around families will have cabin fever\, and this Expo will encourage families to come play\, celebrate\, get active\, explore\, build\, learn\, and discover. Families Matter and this Expo will encourage family bonding time along with some moving and creative mind activities. Moving Matters and this Expo will encourage physical activity\, empowering children and families to lead better lives. Minds Matter and Creative Play Matters\, bringing basic family bonding activities full circle. Some of the featured areas include:   Storybook Time   Zip Line   Toddler Zone   Lego Build   Inflatable Slide   Ga-Ga Pit   Bounce House   Art Wall Zone   Face Painting Fun   Balloon Twisting   Coloring Zone   Wall of Gratitude   Free Chocolate Milk   Green Thumb Zone   Self Defense   And MORE! Show Hours: Saturday 10 am - 5 pm. Public Invited. Tickets at the door: $7 for adults and $3 (children 3-15). For additional information\, go to www.kidsandfamilyexpo.com
X-ALT-DESC;FMTTYPE=text/html:Kids &amp\; Family Expo January 21\, 2017 (Saturday) Hours: 10am &ndash\; 5pm DeVos Place-Grand Rapids\, MI www.kidsandfamilyexpo.com Ride a Zip Line through the DeVos Place! Family Bonding Activities\, Education &amp\; Fun! By the time January rolls around families will have cabin fever\, and this Expo will encourage families to come play\, celebrate\, get active\, explore\, build\, learn\, and discover. Families Matter and this Expo will encourage family bonding time along with some moving and creative mind activities. Moving Matters and this Expo will encourage physical activity\, empowering children and families to lead better lives. Minds Matter and Creative Play Matters\, bringing basic family bonding activities full circle. Some of the featured areas include: &bull\; Storybook Time &bull\; Zip Line &bull\; Toddler Zone &bull\; Lego Build &bull\; Inflatable Slide &bull\; Ga-Ga Pit &bull\; Bounce House &bull\; Art Wall Zone &bull\; Face Painting Fun &bull\; Balloon Twisting &bull\; Coloring Zone &bull\; Wall of Gratitude &bull\; Free Chocolate Milk &bull\; Green Thumb Zone &bull\; Self Defense &bull\; And MORE! Show Hours: Saturday 10 am - 5 pm. Public Invited. Tickets at the door: $7 for adults and $3 (children 3-15). For additional information\, go to www.kidsandfamilyexpo.com
LOCATION:DeVos Place 303 Monroe Ave NW Grand Rapids MI 49503
UID:e.2018.414
SEQUENCE:3
DTSTAMP:20260425T172111Z
URL:https://members.westmihcc.org/events/details/kids-and-family-expo-january-21-2017-01-21-2017-414
END:VEVENT

END:VCALENDAR
