BEGIN:VCALENDAR
VERSION:2.0
PRODID:-//ChamberMaster//Event Calendar 2.0//EN
METHOD:PUBLISH
X-PUBLISHED-TTL:P3D
REFRESH-INTERVAL:P3D
CALSCALE:GREGORIAN
BEGIN:VEVENT
DTSTART:20190126T150000Z
DTEND:20190126T220000Z
X-MICROSOFT-CDO-ALLDAYEVENT:FALSE
SUMMARY:Kids & Family Expo
DESCRIPTION:Kids & Family Expo January 26\, 2019 (Saturday) Hours: 10am   5pm DeVos Place\, downtown Grand Rapids\, MI www.KohlerExpo.com Ride a Zip Line through the DeVos Place! Family Bonding Activities\, Education & Fun! This family focused community event encourages families to play & move with physical activities\, learn & explore with creative mind activities and lead healthier lives in an active environment. Families Matter\, Moving Matters\, Minds Matter\, and Creative Play Matters\, bringing family bonding activities full circle. Some of the featured areas include:   Zip Line through the DeVos Place   Toddler Zone   Rock Wall   Puppet Shows   Magician   NEW Curiosity Dome   Fire Truck\, Police Car\, Ambulance & Smokehouse   Large Inflatable Slide   Petting Zoo   Obstacle Course   Camps & Retreats   Reptile / Amphibian Exhibit   Ga-Ga Pit   Bounce House   Art Wall Zone   Face Painting Fun   Self Defense   Family Fun Bucket Prizes   And MORE! Show Hours: Saturday 10 am - 5 pm. Public Invited. Tickets at the door or online at www.KohlerExpo.com. For additional information\, go to www.KohlerExpo.com. Kohler Expos\, Inc. produces: Fall Bridal Show of West Michigan   September 21-22\, 2018 - DeVos Place\, Grand Rapids\, Michigan Kids and Family Expo   January 26\, 2019   DeVos Place\, Grand Rapids\, Michigan Winter Bridal Show of West Michigan   January 26\, 2019  DeVos Place\, Grand Rapids\, Michigan Mid-Michigan Women's Expo   February 8-10\, 2019 - Lansing Center\, Lansing\, Michigan West Michigan Women's Expo   March 8-10\, 2019 - DeVos Place\, Grand Rapids\, Michigan
X-ALT-DESC;FMTTYPE=text/html:Kids &amp\; Family Expo January 26\, 2019 (Saturday) Hours: 10am &ndash\; 5pm DeVos Place\, downtown Grand Rapids\, MI www.KohlerExpo.com Ride a Zip Line through the DeVos Place! Family Bonding Activities\, Education &amp\; Fun! This family focused community event encourages families to play &amp\; move with physical activities\, learn &amp\; explore with creative mind activities and lead healthier lives in an active environment. Families Matter\, Moving Matters\, Minds Matter\, and Creative Play Matters\, bringing family bonding activities full circle. Some of the featured areas include: &bull\; Zip Line through the DeVos Place &bull\; Toddler Zone &bull\; Rock Wall &bull\; Puppet Shows &bull\; Magician &bull\; NEW Curiosity Dome &bull\; Fire Truck\, Police Car\, Ambulance &amp\; Smokehouse &bull\; Large Inflatable Slide &bull\; Petting Zoo &bull\; Obstacle Course &bull\; Camps &amp\; Retreats &bull\; Reptile / Amphibian Exhibit &bull\; Ga-Ga Pit &bull\; Bounce House &bull\; Art Wall Zone &bull\; Face Painting Fun &bull\; Self Defense &bull\; Family Fun Bucket Prizes &bull\; And MORE! Show Hours: Saturday 10 am - 5 pm. Public Invited. Tickets at the door or online at www.KohlerExpo.com. For additional information\, go to www.KohlerExpo.com. Kohler Expos\, Inc. produces: Fall Bridal Show of West Michigan &ndash\; September 21-22\, 2018 - DeVos Place\, Grand Rapids\, Michigan Kids and Family Expo &ndash\; January 26\, 2019 &ndash\; DeVos Place\, Grand Rapids\, Michigan Winter Bridal Show of West Michigan &ndash\; January 26\, 2019&ndash\; DeVos Place\, Grand Rapids\, Michigan Mid-Michigan Women&rsquo\;s Expo &ndash\; February 8-10\, 2019 - Lansing Center\, Lansing\, Michigan West Michigan Women&rsquo\;s Expo &ndash\; March 8-10\, 2019 - DeVos Place\, Grand Rapids\, Michigan
LOCATION:DeVos Place - Grand Rapids
UID:e.2018.864
SEQUENCE:3
DTSTAMP:20260422T082515Z
URL:https://members.westmihcc.org/events/details/kids-family-expo-01-26-2019-864
END:VEVENT

END:VCALENDAR
