BEGIN:VCALENDAR
VERSION:2.0
PRODID:-//ChamberMaster//Event Calendar 2.0//EN
METHOD:PUBLISH
X-PUBLISHED-TTL:P3D
REFRESH-INTERVAL:P3D
CALSCALE:GREGORIAN
BEGIN:VEVENT
DTSTART:20180127T150000Z
DTEND:20180127T220000Z
X-MICROSOFT-CDO-ALLDAYEVENT:FALSE
SUMMARY:Kids & Family Expo
DESCRIPTION:Kids & Family Expo January 27\, 2018 (Saturday) Hours: 10am   5pm DeVos Place\, downtown Grand Rapids\, MI www.KohlerExpo.com Ride a Zip Line through the DeVos Place! Family Bonding Activities\, Education & Fun! By the time January rolls around families will have cabin fever\, and this Expo will encourage families to come play\, celebrate\, get active\, explore\, build\, learn\, and discover. Families Matter and this Expo will encourage family bonding time along with some moving and creative mind activities. Moving Matters and this Expo will encourage physical activity\, empowering children and families to lead better lives. Minds Matter and Creative Play Matters\, bringing basic family bonding activities full circle. Some of the featured areas include:   Zip Line through the DeVos Place   Toddler Zone   Rock Wall   Puppet Shows   Magician   Lego Build   Fire Truck\, Police Car\, Ambulance & Smokehouse   Large Inflatable Slide   Petting Zoo   Obstacle Course   Camps & Retreats   Snowflake Station   Ga-Ga Pit   Bounce House   Art Wall Zone   Face Painting Fun   Coloring Zone   Self Defense   And MORE! Show Hours: Saturday 10 am - 5 pm. Public Invited. Tickets at the door or online at www.KohlerExpo.com. For additional information\, go to www.KohlerExpo.com. Kohler Expos\, Inc. produces: Fall Bridal Show of West Michigan   September 22-23\, 2017 - DeVos Place\, Grand Rapids\, Michigan Shopping & Lifestyle Expo   October 14-15\, 2017 - DeVos Place\, Grand Rapids\, Michigan Winter Bridal Show of West Michigan   January 27\, 2018  DeVos Place\, Grand Rapids\, Michigan Kids and Family Expo   January 27\, 2018   DeVos Place\, Grand Rapids\, Michigan Mid-Michigan Women's Expo   February 2-4\, 2018 - Lansing Center\, Lansing\, Michigan West Michigan Women's Expo   March 9-11\, 2018 - DeVos Place\, Grand Rapids\, Michigan
X-ALT-DESC;FMTTYPE=text/html:Kids &amp\; Family Expo January 27\, 2018 (Saturday) Hours: 10am &ndash\; 5pm DeVos Place\, downtown Grand Rapids\, MI www.KohlerExpo.com Ride a Zip Line through the DeVos Place! Family Bonding Activities\, Education &amp\; Fun! By the time January rolls around families will have cabin fever\, and this Expo will encourage families to come play\, celebrate\, get active\, explore\, build\, learn\, and discover. Families Matter and this Expo will encourage family bonding time along with some moving and creative mind activities. Moving Matters and this Expo will encourage physical activity\, empowering children and families to lead better lives. Minds Matter and Creative Play Matters\, bringing basic family bonding activities full circle. Some of the featured areas include: &bull\; Zip Line through the DeVos Place &bull\; Toddler Zone &bull\; Rock Wall &bull\; Puppet Shows &bull\; Magician &bull\; Lego Build &bull\; Fire Truck\, Police Car\, Ambulance &amp\; Smokehouse &bull\; Large Inflatable Slide &bull\; Petting Zoo &bull\; Obstacle Course &bull\; Camps &amp\; Retreats &bull\; Snowflake Station &bull\; Ga-Ga Pit &bull\; Bounce House &bull\; Art Wall Zone &bull\; Face Painting Fun &bull\; Coloring Zone &bull\; Self Defense &bull\; And MORE! Show Hours: Saturday 10 am - 5 pm. Public Invited. Tickets at the door or online at www.KohlerExpo.com. For additional information\, go to www.KohlerExpo.com. Kohler Expos\, Inc. produces: Fall Bridal Show of West Michigan &ndash\; September 22-23\, 2017 - DeVos Place\, Grand Rapids\, Michigan Shopping &amp\; Lifestyle Expo &ndash\; October 14-15\, 2017 - DeVos Place\, Grand Rapids\, Michigan Winter Bridal Show of West Michigan &ndash\; January 27\, 2018&ndash\; DeVos Place\, Grand Rapids\, Michigan Kids and Family Expo &ndash\; January 27\, 2018 &ndash\; DeVos Place\, Grand Rapids\, Michigan Mid-Michigan Women&rsquo\;s Expo &ndash\; February 2-4\, 2018 - Lansing Center\, Lansing\, Michigan West Michigan Women&rsquo\;s Expo &ndash\; March 9-11\, 2018 - DeVos Place\, Grand Rapids\, Michigan
LOCATION:DeVos Place
UID:e.2018.660
SEQUENCE:3
DTSTAMP:20260423T004021Z
URL:https://members.westmihcc.org/events/details/kids-family-expo-660
END:VEVENT

END:VCALENDAR
