BEGIN:VCALENDAR
VERSION:2.0
PRODID:-//ChamberMaster//Event Calendar 2.0//EN
METHOD:PUBLISH
X-PUBLISHED-TTL:P3D
REFRESH-INTERVAL:P3D
CALSCALE:GREGORIAN
BEGIN:VEVENT
DTSTART:20160814T000000Z
DTEND:20160814T030000Z
X-MICROSOFT-CDO-ALLDAYEVENT:FALSE
SUMMARY:KISS: "Freedom to Rock" Tour
DESCRIPTION:America's #1 Gold Record Award winning group of all time announces their highly anticipated 2016 summer American "Freedom to Rock" Tour. This is the fifth time KISS will play Van Andel Arena\, and the first time since 2003. Opening for KISS will be the All-Star rock band Dead Daisies. As America's #1 Gold Record Award winning group of all time\, and that's in every category\, KISS can easily be named one of rock's most influential bands. The Rock N Roll Hall of Famers have released 44 albums and sold more than 100 million albums worldwide. Honored by their peers\, KISS received the illustrious ASCAP Founders Award in 2015. KISS's lineup includes Paul Stanley\, Gene Simmons\, Eric Singer and Tommy Thayer. Tickets may be purchased at Van Andel Arena  and DeVos Place  convention center box offices\, Ticketmaster ticket centers\, including D & W stores and select Family Fare and Walmart locations\, charge by phone 1.800.745.3000 or on line at Ticketmaster.com. There is a purchase limit of 8 tickets per order\, and ticket prices are subject to change.
X-ALT-DESC;FMTTYPE=text/html:America&#39\;s #1 Gold Record Award winning group of all time announces their highly anticipated 2016 summer American &quot\;Freedom to Rock&quot\; Tour. This is the fifth time KISS will play Van Andel Arena\, and the first time since 2003. Opening for KISS will be the All-Star rock band Dead Daisies. As America&rsquo\;s #1 Gold Record Award winning group of all time\, and that&rsquo\;s in every category\, KISS can easily be named one of rock&rsquo\;s most influential bands. The Rock N Roll Hall of Famers have released 44 albums and sold more than 100 million albums worldwide. Honored by their peers\, KISS received the illustrious ASCAP Founders Award in 2015. KISS&rsquo\;s lineup includes Paul Stanley\, Gene Simmons\, Eric Singer and Tommy Thayer. Tickets may be purchased at Van Andel Arena&reg\; and DeVos Place&reg\; convention center box offices\, Ticketmaster ticket centers\, including D &amp\; W stores and select Family Fare and Walmart locations\, charge by phone 1.800.745.3000 or on line at Ticketmaster.com. There is a purchase limit of 8 tickets per order\, and ticket prices are subject to change.
LOCATION:Van Andel Arena 130 West Fulton\, Grand Rapids\, MI 49503
UID:e.2018.403
SEQUENCE:3
DTSTAMP:20260426T000156Z
URL:https://members.westmihcc.org/events/details/kiss-freedom-to-rock-tour-08-13-2016-403
END:VEVENT

END:VCALENDAR
