BEGIN:VCALENDAR
VERSION:2.0
PRODID:-//ChamberMaster//Event Calendar 2.0//EN
METHOD:PUBLISH
X-PUBLISHED-TTL:P3D
REFRESH-INTERVAL:P3D
CALSCALE:GREGORIAN
BEGIN:VEVENT
DTSTART:20160827T213000Z
DTEND:20160828T020000Z
X-MICROSOFT-CDO-ALLDAYEVENT:FALSE
SUMMARY:Knockout Promotions 50
DESCRIPTION:Michigan's premiere event is coming\, on August 27th!! Live from The Delta Plex Arena in Grand Rapids Michigan\, KnockOut Promotions will deliver one of the most memorable nights that Michigan MMA has ever seen! BIG name fighters\, on the BIGGEST stage that Michigan (and most of the entire Midwest) has to offer! This is a landmark event in our companies history\, and we will be pulling out all the stops to ensure that this night is as epic as can be! Don't miss out!
X-ALT-DESC;FMTTYPE=text/html:Michigan&#39\;s premiere event is coming\, on August 27th!! Live from The Delta Plex Arena in Grand Rapids Michigan\, KnockOut Promotions will deliver one of the most memorable nights that Michigan MMA has ever seen! BIG name fighters\, on the BIGGEST stage that Michigan (and most of the entire Midwest) has to offer! This is a landmark event in our companies history\, and we will be pulling out all the stops to ensure that this night is as epic as can be! Don&#39\;t miss out!
LOCATION:The DeltaPlex Arena
UID:e.2018.425
SEQUENCE:3
DTSTAMP:20260425T235806Z
URL:https://members.westmihcc.org/events/details/knockout-promotions-50-08-27-2016-425
END:VEVENT

END:VCALENDAR
