BEGIN:VCALENDAR
VERSION:2.0
PRODID:-//ChamberMaster//Event Calendar 2.0//EN
METHOD:PUBLISH
X-PUBLISHED-TTL:P3D
REFRESH-INTERVAL:P3D
CALSCALE:GREGORIAN
BEGIN:VEVENT
DTSTART:20171011T120000Z
DTEND:20171011T160000Z
X-MICROSOFT-CDO-ALLDAYEVENT:FALSE
SUMMARY:Know Your Numbers: Five Keys to Using Financial Statements
DESCRIPTION:Know Your Numbers: Five Keys to Using Financial Statements to Maximize Cash Flow and Increase Access to Capital. Who Should Attend: Business owners and key staff who want to have a better understanding of how to use their financial statements. The ideal participant in Know Your Numbers will have 2-3 years of financial history and be pursuing financing or having challenges with cash flow. Topics include how to:   Use your Balance Sheet and Income Statement in managing your business   Use break even analysis to improve your decision-making   Find the source of your cash flow problems   Increase your company's cash flow   Get the banker on your side Registration and light breakfast begins at 8:00 AM. The program will begin at 8:30 AM. Presented by SBDC West Michigan and Fifth Third Bank. To register\, go online at https://clients.sbdcmichigan.org/workshop.aspx?ekey=70370070 or call SBDC West Michigan at (616)331-7370.
X-ALT-DESC;FMTTYPE=text/html:Know Your Numbers: Five Keys to Using Financial Statements to Maximize Cash Flow and Increase Access to Capital. Who Should Attend: Business owners and key staff who want to have a better understanding of how to use their financial statements. The ideal participant in Know Your Numbers will have 2-3 years of financial history and be pursuing financing or having challenges with cash flow. Topics include how to: &bull\; Use your Balance Sheet and Income Statement in managing your business &bull\; Use break even analysis to improve your decision-making &bull\; Find the source of your cash flow problems &bull\; Increase your company&rsquo\;s cash flow &bull\; Get the banker on your side Registration and light breakfast begins at 8:00 AM. The program will begin at 8:30 AM. Presented by SBDC West Michigan and Fifth Third Bank. To register\, go online at https://clients.sbdcmichigan.org/workshop.aspx?ekey=70370070 or call SBDC West Michigan at (616)331-7370.
LOCATION:GVSU Bicycle Factory 201 Front Avenue Grand Rapids\, MI 49504
UID:e.2018.592
SEQUENCE:3
DTSTAMP:20260423T051609Z
URL:https://members.westmihcc.org/events/details/know-your-numbers-five-keys-to-using-financial-statements-10-11-2017-592
END:VEVENT

END:VCALENDAR
