BEGIN:VCALENDAR
VERSION:2.0
PRODID:-//ChamberMaster//Event Calendar 2.0//EN
METHOD:PUBLISH
X-PUBLISHED-TTL:P3D
REFRESH-INTERVAL:P3D
CALSCALE:GREGORIAN
BEGIN:VEVENT
DTSTART:20200212T163000Z
DTEND:20200212T173000Z
X-MICROSOFT-CDO-ALLDAYEVENT:FALSE
SUMMARY:Launch NOW! Business Start-Up Info Session
DESCRIPTION:The SBDC West Michigan Region has started a special initiative to assist at least 50 new businesses get launched this year! If you have been considering or are in the beginning stages of starting your own business\, come to one of our unique one-hour information sessions. You'll learn about business trends for 2020\, why half of all businesses fail\, 7 steps to correctly start your business\, upcoming pitch competitions where you can win free money\, and how the accelerated services of our Launch NOW Initiative can increase your chances of success. All attendees will receive our "Guide to Starting and Operating a Small Business." Speaker(s): Marie Elliott\, SBDC West Michigan Region Reasonable accommodations for persons with disabilities will be made\, if requested at least two weeks in advance. Please contact SBDC West Michigan at 616-331-7370 or email sbdc@gvsu.edu to make arrangements. The Michigan SBDC program is partially funded by the U.S. Small Business Administration. All MI-SBDC programs or co-sponsored programs are extended to the public on a nondiscriminatory basis. Fee: No Cost
X-ALT-DESC;FMTTYPE=text/html:The SBDC West Michigan Region has started a special initiative to assist at least 50 new businesses get launched this year! If you have been considering or are in the beginning stages of starting your own business\, come to one of our unique one-hour information sessions. You&rsquo\;ll learn about business trends for 2020\, why half of all businesses fail\, 7 steps to correctly start your business\, upcoming pitch competitions where you can win free money\, and how the accelerated services of our Launch NOW Initiative can increase your chances of success. All attendees will receive our &ldquo\;Guide to Starting and Operating a Small Business.&rdquo\; Speaker(s): Marie Elliott\, SBDC West Michigan Region Reasonable accommodations for persons with disabilities will be made\, if requested at least two weeks in advance. Please contact SBDC West Michigan at 616-331-7370 or email sbdc@gvsu.edu to make arrangements. The Michigan SBDC program is partially funded by the U.S. Small Business Administration. All MI-SBDC programs or co-sponsored programs are extended to the public on a nondiscriminatory basis. Fee: No Cost
LOCATION:Michigan Works! West Central (Big Rapids) Mecosta County Workforce Service Center 14330 Northland Drive Big Rapids\, MI 49307
UID:e.2018.1449
SEQUENCE:3
DTSTAMP:20260419T153605Z
URL:https://members.westmihcc.org/events/details/launch-now-business-start-up-info-session-02-12-2020-1449
END:VEVENT

END:VCALENDAR
