BEGIN:VCALENDAR
VERSION:2.0
PRODID:-//ChamberMaster//Event Calendar 2.0//EN
METHOD:PUBLISH
X-PUBLISHED-TTL:P3D
REFRESH-INTERVAL:P3D
CALSCALE:GREGORIAN
BEGIN:VEVENT
DTSTART:20190621T170000Z
DTEND:20190621T180000Z
X-MICROSOFT-CDO-ALLDAYEVENT:FALSE
SUMMARY:Launch NOW! Business Start-Up Info Session
DESCRIPTION:The West Michigan Region of the Michigan SBDC is starting this special initiative to assist 50 new businesses get launched this year. Come to one of our special one-hour information sessions to hear about business trends for 2019\, why half of all businesses fail\, 7 steps to correctly start your business\, upcoming pitch competitions where you can win free money\, and how to become part of our Launch NOW Initiative to increase your chances of success. All attendees will receive our "Guide to Starting and Operating a Small Business". No cost. To register for this event\, please click on the following link: https://clients.sbdcmichigan.org/workshop.aspx?ekey=70390131.
X-ALT-DESC;FMTTYPE=text/html:The West Michigan Region of the Michigan SBDC is starting this special initiative to assist 50 new businesses get launched this year. Come to one of our special one-hour information sessions to hear about business trends for 2019\, why half of all businesses fail\, 7 steps to correctly start your business\, upcoming pitch competitions where you can win free money\, and how to become part of our Launch NOW Initiative to increase your chances of success. All attendees will receive our &ldquo\;Guide to Starting and Operating a Small Business&rdquo\;. No cost. To register for this event\, please click on the following link: https://clients.sbdcmichigan.org/workshop.aspx?ekey=70390131.
LOCATION:Muskegon Innovation Hub Room 201 200 Viridian Dr. Muskegon\, MI 49440
UID:e.2018.1239
SEQUENCE:3
DTSTAMP:20260420T033023Z
URL:https://members.westmihcc.org/events/details/launch-now-business-start-up-info-session-06-21-2019-1239
END:VEVENT

END:VCALENDAR
