BEGIN:VCALENDAR
VERSION:2.0
PRODID:-//ChamberMaster//Event Calendar 2.0//EN
METHOD:PUBLISH
X-PUBLISHED-TTL:P3D
REFRESH-INTERVAL:P3D
CALSCALE:GREGORIAN
BEGIN:VEVENT
DTSTART:20190730T213000Z
DTEND:20190730T223000Z
X-MICROSOFT-CDO-ALLDAYEVENT:FALSE
SUMMARY:Launch NOW! Business Start-Up Info Session
DESCRIPTION:The Michigan SBDC West Region is starting a special initiative to assist at least 50 new businesses get launched this year!  If you have been considering or at the beginning stages of starting your own business\, come to one of our unique one-hour information sessions.  You?ll learn about business trends for 2019\, why half of all businesses fail\, 7 steps to correctly start your business\, upcoming pitch competitions where you can win free money\, and how the accelerated services of our Launch NOW Initiative can increase your chances of success.  All attendees will receive our ?Guide to Starting and Operating a Small Business.? No cost.  To register\, click on this link: https://bit.ly/2J0aRro.
X-ALT-DESC;FMTTYPE=text/html:The Michigan SBDC West Region is starting a special initiative to assist at least 50 new businesses get launched this year!  If you have been considering or at the beginning stages of starting your own business\, come to one of our unique one-hour information sessions.  You?ll learn about business trends for 2019\, why half of all businesses fail\, 7 steps to correctly start your business\, upcoming pitch competitions where you can win free money\, and how the accelerated services of our Launch NOW Initiative can increase your chances of success.  All attendees will receive our ?Guide to Starting and Operating a Small Business.? No cost.  To register\, click on this link: https://bit.ly/2J0aRro. 
LOCATION:ZIP Innovation Space 47 E Main Ave Zeeland\, MI 49464
UID:e.2018.1277
SEQUENCE:3
DTSTAMP:20260420T003039Z
URL:https://members.westmihcc.org/events/details/launch-now-business-start-up-info-session-07-30-2019-1277
END:VEVENT

END:VCALENDAR
