BEGIN:VCALENDAR
VERSION:2.0
PRODID:-//ChamberMaster//Event Calendar 2.0//EN
METHOD:PUBLISH
X-PUBLISHED-TTL:P3D
REFRESH-INTERVAL:P3D
CALSCALE:GREGORIAN
BEGIN:VEVENT
DTSTART:20190828T150000Z
DTEND:20190828T160000Z
X-MICROSOFT-CDO-ALLDAYEVENT:FALSE
SUMMARY:Launch NOW! Business Start-Up Info Session
DESCRIPTION:The SBDC West Michigan Region is starting a special initiative to assist at least 50 new businesses get launched this year! If you have been considering or at the beginning stages of starting your own business\, come to one of our unique one-hour information sessions. You'll learn about business trends for 2019\, why half of all businesses fail\, 7 steps to correctly start your business\, upcoming pitch competitions where you can win free money\, and how the accelerated services of our Launch NOW Initiative can increase your chances of success. All attendees will receive our "Guide to Starting and Operating a Small Business." To register\, click on this link: https://clients.sbdcmichigan.org/workshop.aspx?ekey=70390189. No cost.
X-ALT-DESC;FMTTYPE=text/html:The SBDC West Michigan Region is starting a special initiative to assist at least 50 new businesses get launched this year! If you have been considering or at the beginning stages of starting your own business\, come to one of our unique one-hour information sessions. You&rsquo\;ll learn about business trends for 2019\, why half of all businesses fail\, 7 steps to correctly start your business\, upcoming pitch competitions where you can win free money\, and how the accelerated services of our Launch NOW Initiative can increase your chances of success. All attendees will receive our &ldquo\;Guide to Starting and Operating a Small Business.&rdquo\; To register\, click on this link: https://clients.sbdcmichigan.org/workshop.aspx?ekey=70390189. No cost.
LOCATION:Herrick District Library Small Meeting Room on Lower Level 300 South River Ave Holland\, MI 49423
UID:e.2018.1326
SEQUENCE:3
DTSTAMP:20260420T002556Z
URL:https://members.westmihcc.org/events/details/launch-now-business-start-up-info-session-08-28-2019-1326
END:VEVENT

END:VCALENDAR
