BEGIN:VCALENDAR
VERSION:2.0
PRODID:-//ChamberMaster//Event Calendar 2.0//EN
METHOD:PUBLISH
X-PUBLISHED-TTL:P3D
REFRESH-INTERVAL:P3D
CALSCALE:GREGORIAN
BEGIN:VEVENT
DTSTART:20191024T160000Z
DTEND:20191024T170000Z
X-MICROSOFT-CDO-ALLDAYEVENT:FALSE
SUMMARY:Launch NOW! Business Start-Up Info Session
DESCRIPTION:The Michigan SBDC West Region is starting a special initiative to assist at least 50 new businesses get launched this year! If you have been considering or at the beginning stages of starting your own business\, come to one of our unique one-hour information sessions. You'll learn about business trends for 2019\, why half of all businesses fail\, 7 steps to correctly start your business\, upcoming pitch competitions where you can win free money\, and how the accelerated services of our Launch NOW Initiative can increase your chances of success. All attendees will receive our "Guide to Starting and Operating a Small Business."
X-ALT-DESC;FMTTYPE=text/html:The Michigan SBDC West Region is starting a special initiative to assist at least 50 new businesses get launched this year! If you have been considering or at the beginning stages of starting your own business\, come to one of our unique one-hour information sessions. You&rsquo\;ll learn about business trends for 2019\, why half of all businesses fail\, 7 steps to correctly start your business\, upcoming pitch competitions where you can win free money\, and how the accelerated services of our Launch NOW Initiative can increase your chances of success. All attendees will receive our &ldquo\;Guide to Starting and Operating a Small Business.&rdquo\;
LOCATION:Michigan Works! West Central (Big Rapids) Mecosta County Workforce Service Center 14330 Northland Drive Big Rapids\, MI 49307
UID:e.2018.1373
SEQUENCE:3
DTSTAMP:20260419T212415Z
URL:https://members.westmihcc.org/events/details/launch-now-business-start-up-info-session-10-24-2019-1373
END:VEVENT

END:VCALENDAR
