BEGIN:VCALENDAR
VERSION:2.0
PRODID:-//ChamberMaster//Event Calendar 2.0//EN
METHOD:PUBLISH
X-PUBLISHED-TTL:P3D
REFRESH-INTERVAL:P3D
CALSCALE:GREGORIAN
BEGIN:VEVENT
DTSTART:20181007T230000Z
DTEND:20181008T020000Z
X-MICROSOFT-CDO-ALLDAYEVENT:FALSE
SUMMARY:Lauren Daigle
DESCRIPTION:Two-time GRAMMY Award nominee Lauren Daigle brings her Look Up Child Tour to DeVos Performance Hall on Sunday\, October 7th at 7:00PM. After bursting onto the scene in 2015 with her platinum selling debut album How Can It Be\, Lauren returns with a brand new album\, Look Up Child\, a new single "You Say"\, and a 40-city tour. The album is now available for preorder through Amazon\, iTunes and with every ticket purchase for Lauren's headline tour. Special guests AHI and Infinity's Song will join Lauren for the October 7th show.
X-ALT-DESC;FMTTYPE=text/html:Two-time GRAMMY Award nominee Lauren Daigle brings her Look Up Child Tour to DeVos Performance Hall on Sunday\, October 7th at 7:00PM. After bursting onto the scene in 2015 with her platinum selling debut album How Can It Be\, Lauren returns with a brand new album\, Look Up Child\, a new single &quot\;You Say&quot\;\, and a 40-city tour. The album is now available for preorder through Amazon\, iTunes and with every ticket purchase for Lauren&#39\;s headline tour. Special guests AHI and Infinity&#39\;s Song will join Lauren for the October 7th show.
LOCATION:DeVos Performance Hall
UID:e.2018.893
SEQUENCE:3
DTSTAMP:20260422T122156Z
URL:https://members.westmihcc.org/events/details/lauren-daigle-893
END:VEVENT

END:VCALENDAR
