BEGIN:VCALENDAR
VERSION:2.0
PRODID:-//ChamberMaster//Event Calendar 2.0//EN
METHOD:PUBLISH
X-PUBLISHED-TTL:P3D
REFRESH-INTERVAL:P3D
CALSCALE:GREGORIAN
BEGIN:VEVENT
DTSTART:20190601T140000Z
DTEND:20190601T160000Z
X-MICROSOFT-CDO-ALLDAYEVENT:FALSE
SUMMARY:Lids for Kids
DESCRIPTION:Lids for Kids is an annual helmet giveaway. Each year\, to prepare for the summer activities\, such as biking\, scootering\, and skateboarding\, we hope to reduce brain and head injuries among children. Each child attending will receive a FREE\, properly fitted bike helmet thanks to our trained volunteers. Attending kids will also get entered into a raffle for a chance to win a free bike or other great community prizes.
X-ALT-DESC;FMTTYPE=text/html:Lids for Kids is an annual helmet giveaway. Each year\, to prepare for the summer activities\, such as biking\, scootering\, and skateboarding\, we hope to reduce brain and head injuries among children. Each child attending will receive a FREE\, properly fitted bike helmet thanks to our trained volunteers. Attending kids will also get entered into a raffle for a chance to win a free bike or other great community prizes.
LOCATION:Garfield Park 2111 Madison SE Grand Rapids\, MI 49507
UID:e.2018.1247
SEQUENCE:3
DTSTAMP:20260420T015801Z
URL:https://members.westmihcc.org/events/details/lids-for-kids-06-01-2019-1247
END:VEVENT

END:VCALENDAR
