BEGIN:VCALENDAR
VERSION:2.0
PRODID:-//ChamberMaster//Event Calendar 2.0//EN
METHOD:PUBLISH
X-PUBLISHED-TTL:P3D
REFRESH-INTERVAL:P3D
CALSCALE:GREGORIAN
BEGIN:VEVENT
DTSTART:20180609T140000Z
DTEND:20180609T160000Z
X-MICROSOFT-CDO-ALLDAYEVENT:FALSE
SUMMARY:Lids for Kids Bike Safety & Bike Helmet Giveaway
DESCRIPTION:Michigan kids and their families are invited to join us at Garfield Park in Grand Rapids for the annual Lids for Kids event. Trained professionals and volunteers will properly fit each child with a free bike helmet and share helpful bicycle safety tips. Kids can also register to receive a FREE bicycle and other family-friendly prizes. With opportunities to meet local law officials and firefighters\, tour a fire engine\, and fun activities and games\, there's something for every kid and kid at heart!
X-ALT-DESC;FMTTYPE=text/html:Michigan kids and their families are invited to join us at Garfield Park in Grand Rapids for the annual Lids for Kids event. Trained professionals and volunteers will properly fit each child with a free bike helmet and share helpful bicycle safety tips. Kids can also register to receive a FREE bicycle and other family-friendly prizes. With opportunities to meet local law officials and firefighters\, tour a fire engine\, and fun activities and games\, there&rsquo\;s something for every kid and kid at heart!
LOCATION:Garfield Park Grand Rapids\, MI 49507
UID:e.2018.812
SEQUENCE:3
DTSTAMP:20260422T184338Z
URL:https://members.westmihcc.org/events/details/lids-for-kids-bike-safety-bike-helmet-giveaway-812
END:VEVENT

END:VCALENDAR
