BEGIN:VCALENDAR
VERSION:2.0
PRODID:-//ChamberMaster//Event Calendar 2.0//EN
METHOD:PUBLISH
X-PUBLISHED-TTL:P3D
REFRESH-INTERVAL:P3D
CALSCALE:GREGORIAN
BEGIN:VEVENT
DTSTART:20160924T140000Z
DTEND:20160924T160000Z
X-MICROSOFT-CDO-ALLDAYEVENT:FALSE
SUMMARY:LifeReimagined.org
DESCRIPTION:A free two-hour experience to help you understand where you are in life and what your next move could be. Led by trained Life Reimagined Guides\, this event brings people together to talk about the challenges and choices they're facing and how to make the most of them. Come share your experiences and get inspired about your possibilities. Whether it's work\, family\, or health that's on your mind\, you'll discover new methods and tools to help you achieve your goals.
X-ALT-DESC;FMTTYPE=text/html:A free two-hour experience to help you understand where you are in life and what your next move could be. Led by trained Life Reimagined Guides\, this event brings people together to talk about the challenges and choices they&#39\;re facing and how to make the most of them. Come share your experiences and get inspired about your possibilities. Whether it&#39\;s work\, family\, or health that&#39\;s on your mind\, you&#39\;ll discover new methods and tools to help you achieve your goals.
LOCATION:Pilgrim Missionary Church 510 Franklin St. SE Grand Rapids\, MI
UID:e.2018.409
SEQUENCE:3
DTSTAMP:20260425T225727Z
URL:https://members.westmihcc.org/events/details/lifereimagined-org-09-24-2016-409
END:VEVENT

END:VCALENDAR
